BEGIN:VCALENDAR
VERSION:2.0
PRODID:-//Poblenou Urban District - ECPv6.15.20//NONSGML v1.0//EN
CALSCALE:GREGORIAN
METHOD:PUBLISH
X-WR-CALNAME:Poblenou Urban District
X-ORIGINAL-URL:https://poblenouurbandistrict.com/es
X-WR-CALDESC:Eventos para Poblenou Urban District
REFRESH-INTERVAL;VALUE=DURATION:PT1H
X-Robots-Tag:noindex
X-PUBLISHED-TTL:PT1H
BEGIN:VTIMEZONE
TZID:Europe/Madrid
BEGIN:DAYLIGHT
TZOFFSETFROM:+0100
TZOFFSETTO:+0200
TZNAME:CEST
DTSTART:20210328T010000
END:DAYLIGHT
BEGIN:STANDARD
TZOFFSETFROM:+0200
TZOFFSETTO:+0100
TZNAME:CET
DTSTART:20211031T010000
END:STANDARD
BEGIN:DAYLIGHT
TZOFFSETFROM:+0100
TZOFFSETTO:+0200
TZNAME:CEST
DTSTART:20220327T010000
END:DAYLIGHT
BEGIN:STANDARD
TZOFFSETFROM:+0200
TZOFFSETTO:+0100
TZNAME:CET
DTSTART:20221030T010000
END:STANDARD
BEGIN:DAYLIGHT
TZOFFSETFROM:+0100
TZOFFSETTO:+0200
TZNAME:CEST
DTSTART:20230326T010000
END:DAYLIGHT
BEGIN:STANDARD
TZOFFSETFROM:+0200
TZOFFSETTO:+0100
TZNAME:CET
DTSTART:20231029T010000
END:STANDARD
END:VTIMEZONE
BEGIN:VEVENT
DTSTART;TZID=Europe/Madrid:20220615T180000
DTEND;TZID=Europe/Madrid:20220615T200000
DTSTAMP:20260421T094450
CREATED:20220530T110320Z
LAST-MODIFIED:20220530T110320Z
UID:10003707-1655316000-1655323200@poblenouurbandistrict.com
SUMMARY:[:ca]Taller: Resistències sensibles. Cures de llavors\, terra\, plantes i altres persones.[:es]Taller: Resistencias sensibles. Curas de semillas\, tierra\, plantas y otras personas.[:en]Workshop: Sensitive resistances. Healing of seeds\, earth\, plants and other people.[:]
DESCRIPTION:¿Qué nos explican las semillas? ¿Cuántos tipos de tomates hay en tu barrio? ¿Qué le cae bien (y mal) a tu patata? ¿Cómo mejorar el sistema inmune de la tierra? Este taller es para personas interesadas en cultivar cuidadosamente sus propios alimentos (u otras plantas)\, tanto con experiencia\, como sin ella.
URL:https://poblenouurbandistrict.com/es/agenda/taller-resistencies-sensibles-cures-de-llavors-terra-plantes-i-altres-persones/2022-06-15/
LOCATION:La Escocesa\, C. de Pere IV\, 345\, Barcelona\, Barcelona\, 08020\, Espanya
CATEGORIES:Taller
ATTACH;FMTTYPE=image/jpeg:https://media.poblenouurbandistrict.com/2022/05/25052500/screenshot-2022-05-30-at-130252.jpg
END:VEVENT
BEGIN:VEVENT
DTSTART;TZID=Europe/Madrid:20220615T180000
DTEND;TZID=Europe/Madrid:20220615T220000
DTSTAMP:20260421T094450
CREATED:20220610T084656Z
LAST-MODIFIED:20220610T084656Z
UID:10003808-1655316000-1655330400@poblenouurbandistrict.com
SUMMARY:[:ca]Taller: Resident Advisor & SONAR Workshop with MBODJ[:es]Taller: Resident Advisor & SONAR Workshop with MBODJ[:en]Workshop: Resident Advisor & SONAR Workshop with MBODJ[:]
DESCRIPTION:En colaboración con Sonar Festival y Resident Advisor\, Bridge_48 nos da la oportunidad de participar en un workshop para DJs principiantes con MBODJ.
URL:https://poblenouurbandistrict.com/es/agenda/taller-resident-advisor-sonar-workshop-with-mbodj/
LOCATION:Bridge_48\, Carrer de Llull\, 48\, Barcelona\, 08005
CATEGORIES:Música,Taller,Charla
ATTACH;FMTTYPE=image/jpeg:https://media.poblenouurbandistrict.com/2022/06/25052930/e8b820c6bfc7c0c63ff28b7f95fd6a54da1c2d62.jpg
END:VEVENT
END:VCALENDAR