BEGIN:VCALENDAR
VERSION:2.0
PRODID:-//Poblenou Urban District - ECPv6.15.20//NONSGML v1.0//EN
CALSCALE:GREGORIAN
METHOD:PUBLISH
X-WR-CALNAME:Poblenou Urban District
X-ORIGINAL-URL:https://poblenouurbandistrict.com/es
X-WR-CALDESC:Eventos para Poblenou Urban District
REFRESH-INTERVAL;VALUE=DURATION:PT1H
X-Robots-Tag:noindex
X-PUBLISHED-TTL:PT1H
BEGIN:VTIMEZONE
TZID:Europe/Madrid
BEGIN:DAYLIGHT
TZOFFSETFROM:+0100
TZOFFSETTO:+0200
TZNAME:CEST
DTSTART:20230326T010000
END:DAYLIGHT
BEGIN:STANDARD
TZOFFSETFROM:+0200
TZOFFSETTO:+0100
TZNAME:CET
DTSTART:20231029T010000
END:STANDARD
BEGIN:DAYLIGHT
TZOFFSETFROM:+0100
TZOFFSETTO:+0200
TZNAME:CEST
DTSTART:20240331T010000
END:DAYLIGHT
BEGIN:STANDARD
TZOFFSETFROM:+0200
TZOFFSETTO:+0100
TZNAME:CET
DTSTART:20241027T010000
END:STANDARD
BEGIN:DAYLIGHT
TZOFFSETFROM:+0100
TZOFFSETTO:+0200
TZNAME:CEST
DTSTART:20250330T010000
END:DAYLIGHT
BEGIN:STANDARD
TZOFFSETFROM:+0200
TZOFFSETTO:+0100
TZNAME:CET
DTSTART:20251026T010000
END:STANDARD
END:VTIMEZONE
BEGIN:VEVENT
DTSTART;TZID=Europe/Madrid:20240523T170000
DTEND;TZID=Europe/Madrid:20240523T190000
DTSTAMP:20260419T173922
CREATED:20240521T165350Z
LAST-MODIFIED:20240521T165350Z
UID:10006803-1716483600-1716490800@poblenouurbandistrict.com
SUMMARY:[:ca]Masterclass Animació Japonesa amb Atsuko Ishizuka[:es]Masterclass Animación Japonesa con Atsuko Ishizuka[:en]Japanese Animation Masterclass with Atsuko Ishizuka[:]
DESCRIPTION:
URL:https://poblenouurbandistrict.com/es/agenda/masterclass-animacio-japonesa-amb-atsuko-ishizuka/
LOCATION:L’idem Barcelona\, Carrer de la Ciutat de Granada\, 53\, 57\,\, Barcelona\, Barcelona\, 08005\, Espanya
CATEGORIES:Taller
END:VEVENT
END:VCALENDAR