BEGIN:VCALENDAR
VERSION:2.0
PRODID:-//Poblenou Urban District - ECPv6.15.20//NONSGML v1.0//EN
CALSCALE:GREGORIAN
METHOD:PUBLISH
X-WR-CALNAME:Poblenou Urban District
X-ORIGINAL-URL:https://poblenouurbandistrict.com/es
X-WR-CALDESC:Eventos para Poblenou Urban District
REFRESH-INTERVAL;VALUE=DURATION:PT1H
X-Robots-Tag:noindex
X-PUBLISHED-TTL:PT1H
BEGIN:VTIMEZONE
TZID:Europe/Madrid
BEGIN:DAYLIGHT
TZOFFSETFROM:+0100
TZOFFSETTO:+0200
TZNAME:CEST
DTSTART:20210328T010000
END:DAYLIGHT
BEGIN:STANDARD
TZOFFSETFROM:+0200
TZOFFSETTO:+0100
TZNAME:CET
DTSTART:20211031T010000
END:STANDARD
BEGIN:DAYLIGHT
TZOFFSETFROM:+0100
TZOFFSETTO:+0200
TZNAME:CEST
DTSTART:20220327T010000
END:DAYLIGHT
BEGIN:STANDARD
TZOFFSETFROM:+0200
TZOFFSETTO:+0100
TZNAME:CET
DTSTART:20221030T010000
END:STANDARD
BEGIN:DAYLIGHT
TZOFFSETFROM:+0100
TZOFFSETTO:+0200
TZNAME:CEST
DTSTART:20230326T010000
END:DAYLIGHT
BEGIN:STANDARD
TZOFFSETFROM:+0200
TZOFFSETTO:+0100
TZNAME:CET
DTSTART:20231029T010000
END:STANDARD
END:VTIMEZONE
BEGIN:VEVENT
DTSTART;TZID=Europe/Madrid:20220501T120000
DTEND;TZID=Europe/Madrid:20220501T130000
DTSTAMP:20260422T170543
CREATED:20221129T165547Z
LAST-MODIFIED:20221129T165547Z
UID:10002940-1651406400-1651410000@poblenouurbandistrict.com
SUMMARY:[:ca]Teatre: Bye bye\, Confetti[:es]Teatro: Bye bye\, Confetti[:]
DESCRIPTION:Bye bye\, Confetti\, una historia de payasos tierna y divertida con el sello de calidad de La Baldufa. \nMiércoles\, jueves y viernes a las 10 h (Función escolar)\nSábado a las 17 h\nDomingo a las 12 h
URL:https://poblenouurbandistrict.com/es/agenda/teatre-bye-bye-confetti/2022-05-01/
LOCATION:Teatre Nacional de Catalunya\, Plaça de les Arts\, 1\, Barcelona\, 08013
CATEGORIES:Teatro
ATTACH;FMTTYPE=image/jpeg:https://media.poblenouurbandistrict.com/2022/03/25045800/screenshot-2022-03-24-at-165640.jpg
END:VEVENT
BEGIN:VEVENT
DTSTART;TZID=Europe/Madrid:20220501T180000
DTEND;TZID=Europe/Madrid:20220501T193000
DTSTAMP:20260422T170544
CREATED:20221129T165546Z
LAST-MODIFIED:20221129T165546Z
UID:10002894-1651428000-1651433400@poblenouurbandistrict.com
SUMMARY:[:ca]Espectacle: L’altre[:es]Espectáculo: L’altre[:]
DESCRIPTION:L’altre es un juego provocativo\, divertido\, ingenioso y lleno de sorpresas que aborda la relación entre tecnología y deshumanización. \nDe miércoles a sábado\, 20h\nDomingo\, 18h
URL:https://poblenouurbandistrict.com/es/agenda/espectacle-laltre/2022-05-01/
LOCATION:Sala Beckett\, C. de Pere IV\, 228\, 232\, Barcelona\, Barcelona\, 08005
CATEGORIES:Teatro
ATTACH;FMTTYPE=image/jpeg:https://media.poblenouurbandistrict.com/2022/03/25045756/screenshot-2022-03-24-at-162729.jpg
END:VEVENT
BEGIN:VEVENT
DTSTART;TZID=Europe/Madrid:20220501T180000
DTEND;TZID=Europe/Madrid:20220501T213000
DTSTAMP:20260422T170544
CREATED:20221129T165546Z
LAST-MODIFIED:20221129T165546Z
UID:10002927-1651428000-1651440600@poblenouurbandistrict.com
SUMMARY:[:ca]Teatre: Els homes i els dies[:es]Teatro: Els homes i els dies[:]
DESCRIPTION:Els homes i els dies es la autobiografía póstuma de David Vilaseca\, donde encontramos una voz poderosa y una literatura provocadora y estimulante.
URL:https://poblenouurbandistrict.com/es/agenda/teatre-els-homes-i-els-dies/2022-05-01/
LOCATION:Teatre Nacional de Catalunya\, Plaça de les Arts\, 1\, Barcelona\, 08013
CATEGORIES:Teatro
ATTACH;FMTTYPE=image/jpeg:https://media.poblenouurbandistrict.com/2022/03/25045759/pud-agenda-2-5.jpg
END:VEVENT
BEGIN:VEVENT
DTSTART;TZID=Europe/Madrid:20220501T183000
DTEND;TZID=Europe/Madrid:20220501T203000
DTSTAMP:20260422T170544
CREATED:20221129T165545Z
LAST-MODIFIED:20221129T165545Z
UID:10002869-1651429800-1651437000@poblenouurbandistrict.com
SUMMARY:[:ca]Espectacle: La màquina de parlar[:es]Espectáculo: La màquina de parlar[:]
DESCRIPTION:La Sala Beckett presenta La màquina de parlar\, un texto de Victoria Szpunberg que relata una historia cruel y romántica donde las máquinas y las emociones se funden en un espiral de acontecimientos al límite de la existencia. \nDe miércoles a sábado\, 20:30h\nDomingo\, 18:30h
URL:https://poblenouurbandistrict.com/es/agenda/espectacle-la-maquina-de-parlar/2022-05-01/
LOCATION:Sala Beckett\, C. de Pere IV\, 228\, 232\, Barcelona\, Barcelona\, 08005
CATEGORIES:Teatro
ATTACH;FMTTYPE=image/jpeg:https://media.poblenouurbandistrict.com/2022/03/25045755/pud-agenda-18.jpg
END:VEVENT
BEGIN:VEVENT
DTSTART;TZID=Europe/Madrid:20220501T190000
DTEND;TZID=Europe/Madrid:20220501T203000
DTSTAMP:20260422T170544
CREATED:20220414T110022Z
LAST-MODIFIED:20220414T110022Z
UID:10003156-1651431600-1651437000@poblenouurbandistrict.com
SUMMARY:[:ca]Concert: Borja Niso[:es]Concierto: Borja Niso[:en]Concert: Borja Niso[:]
DESCRIPTION:El pianista y compositor Borja Niso vuelve a Barcelona el 1 de mayo con su nuevo espectáculo\, LUDOVICO EXPERIENCE\, dentro de la gira Tot pel nostre Somni.
URL:https://poblenouurbandistrict.com/es/agenda/concert-borja-niso/
LOCATION:Casino l’aliança del Poblenou\, Rambla del Poblenou\, 42\,\, Barcelona\, Barcelona\, 08005\, Espanya
CATEGORIES:Música,Teatro
ATTACH;FMTTYPE=image/jpeg:https://media.poblenouurbandistrict.com/2022/04/25050410/borjatiso.jpg
END:VEVENT
BEGIN:VEVENT
DTSTART;VALUE=DATE:20220503
DTEND;VALUE=DATE:20220504
DTSTAMP:20260422T170544
CREATED:20220331T152022Z
LAST-MODIFIED:20220404T103314Z
UID:10003106-1651536000-1651622399@poblenouurbandistrict.com
SUMMARY:[:ca]Mostra: Travessem el mirall ja![:es]Muestra: ¡Atravesemos el espejo ya![:en]Exhibition: Let's go through the mirror now![:]
DESCRIPTION:L’Obrador de Filosofia es un espacio de reflexión y creación abierto a la interacción de diversas disciplinas escénicas desde una perspectiva filosófica\, dirigiendo la mirada al pensamiento contemporáneo\, a las contradicciones de la cotidianidad\, a las dramaturgias de hoy y a la búsqueda de nuevos espacios de diálogo interdisciplinario. \nEsta muestra forma parte del ciclo Máquina Persona. Inteligencia Artificial y creación que quiere alimentar las reflexiones alrededor de la Inteligencia Artificial\, partiendo de los supuestos filosóficos y artísticos en procesos de creación híbrida.
URL:https://poblenouurbandistrict.com/es/agenda/mostra-travessem-el-mirall-ja/2022-05-03/
LOCATION:Sala Beckett\, C. de Pere IV\, 228\, 232\, Barcelona\, Barcelona\, 08005
CATEGORIES:Exposición,Teatro,Charla
ATTACH;FMTTYPE=image/jpeg:https://media.poblenouurbandistrict.com/2022/03/25050153/travessem-el-mirall.jpg
END:VEVENT
BEGIN:VEVENT
DTSTART;TZID=Europe/Madrid:20220503T103000
DTEND;TZID=Europe/Madrid:20220503T133000
DTSTAMP:20260422T170544
CREATED:20220405T132757Z
LAST-MODIFIED:20220405T132757Z
UID:10003133-1651573800-1651584600@poblenouurbandistrict.com
SUMMARY:[:ca]Curs: Escena i pensament. Cap a una descolonització del llenguatge[:es]Curso: Escena y pensamiento. Hacia una descolonización del lenguaje[:en]Course: Scene and thought. Towards a decolonization of language[:]
DESCRIPTION:La Sala Beckett ofrece un curso de filosofía y teatro. Dividido en ocho sesiones de tres horas\, este combinará una parte de teoría filosófica (conectada con lecturas teatrales) con una parte de escritura y laboratorio creativo. \nMartes de 10:30 h a 13:30 h
URL:https://poblenouurbandistrict.com/es/agenda/curs-escena-i-pensament-cap-a-una-descolonitzacio-del-llenguatge/2022-05-03/
LOCATION:Sala Beckett\, C. de Pere IV\, 228\, 232\, Barcelona\, Barcelona\, 08005
CATEGORIES:Curso,Teatro
ATTACH;FMTTYPE=image/jpeg:https://media.poblenouurbandistrict.com/2022/04/25050206/curso-filosofia.jpg
END:VEVENT
BEGIN:VEVENT
DTSTART;VALUE=DATE:20220504
DTEND;VALUE=DATE:20220505
DTSTAMP:20260422T170544
CREATED:20220331T152022Z
LAST-MODIFIED:20220404T103314Z
UID:10003107-1651622400-1651708799@poblenouurbandistrict.com
SUMMARY:[:ca]Mostra: Travessem el mirall ja![:es]Muestra: ¡Atravesemos el espejo ya![:en]Exhibition: Let's go through the mirror now![:]
DESCRIPTION:L’Obrador de Filosofia es un espacio de reflexión y creación abierto a la interacción de diversas disciplinas escénicas desde una perspectiva filosófica\, dirigiendo la mirada al pensamiento contemporáneo\, a las contradicciones de la cotidianidad\, a las dramaturgias de hoy y a la búsqueda de nuevos espacios de diálogo interdisciplinario. \nEsta muestra forma parte del ciclo Máquina Persona. Inteligencia Artificial y creación que quiere alimentar las reflexiones alrededor de la Inteligencia Artificial\, partiendo de los supuestos filosóficos y artísticos en procesos de creación híbrida.
URL:https://poblenouurbandistrict.com/es/agenda/mostra-travessem-el-mirall-ja/2022-05-04/
LOCATION:Sala Beckett\, C. de Pere IV\, 228\, 232\, Barcelona\, Barcelona\, 08005
CATEGORIES:Exposición,Teatro,Charla
ATTACH;FMTTYPE=image/jpeg:https://media.poblenouurbandistrict.com/2022/03/25050153/travessem-el-mirall.jpg
END:VEVENT
BEGIN:VEVENT
DTSTART;TZID=Europe/Madrid:20220504T100000
DTEND;TZID=Europe/Madrid:20220504T110000
DTSTAMP:20260422T170544
CREATED:20220324T160020Z
LAST-MODIFIED:20220404T102413Z
UID:10002935-1651658400-1651662000@poblenouurbandistrict.com
SUMMARY:[:ca]Teatre: Bye bye\, Confetti[:es]Teatro: Bye bye\, Confetti[:]
DESCRIPTION:Bye bye\, Confetti\, una historia de payasos tierna y divertida con el sello de calidad de La Baldufa. \nMiércoles\, jueves y viernes a las 10 h (Función escolar)\nSábado a las 17 h\nDomingo a las 12 h
URL:https://poblenouurbandistrict.com/es/agenda/teatre-bye-bye-confetti/2022-05-04/
LOCATION:Teatre Nacional de Catalunya\, Plaça de les Arts\, 1\, Barcelona\, 08013
CATEGORIES:Teatro
ATTACH;FMTTYPE=image/jpeg:https://media.poblenouurbandistrict.com/2022/03/25045800/screenshot-2022-03-24-at-165640.jpg
END:VEVENT
BEGIN:VEVENT
DTSTART;TZID=Europe/Madrid:20220504T110000
DTEND;TZID=Europe/Madrid:20220504T140000
DTSTAMP:20260422T170544
CREATED:20220405T132102Z
LAST-MODIFIED:20220405T132102Z
UID:10003125-1651662000-1651672800@poblenouurbandistrict.com
SUMMARY:[:ca]Curs: El monòleg (jo també soc els altres)[:es]Curso: El monólogo (yo también soy los otros)[:en]Course: The monologue (I am also the others)[:]
DESCRIPTION:En este curso\, la Sala Beckett os propone explorar la voz propia de cada participante para crear las voces de personajes. El objetivo es escribir un monólogo dramático (en tono de comedia o tragedia) e iniciaros en la dramaturgia literaria. \nMiércoles de 11 a 14 h.
URL:https://poblenouurbandistrict.com/es/agenda/curs-el-monoleg-jo-tambe-soc-els-altres/2022-05-04/
LOCATION:Sala Beckett\, C. de Pere IV\, 228\, 232\, Barcelona\, Barcelona\, 08005
CATEGORIES:Curso,Teatro
ATTACH;FMTTYPE=image/jpeg:https://media.poblenouurbandistrict.com/2022/04/25050205/el-monoleg.jpg
END:VEVENT
BEGIN:VEVENT
DTSTART;TZID=Europe/Madrid:20220504T190000
DTEND;TZID=Europe/Madrid:20220504T223000
DTSTAMP:20260422T170544
CREATED:20220324T155110Z
LAST-MODIFIED:20220404T083614Z
UID:10002910-1651690800-1651703400@poblenouurbandistrict.com
SUMMARY:[:ca]Teatre: Els homes i els dies[:es]Teatro: Els homes i els dies[:]
DESCRIPTION:Els homes i els dies es la autobiografía póstuma de David Vilaseca\, donde encontramos una voz poderosa y una literatura provocadora y estimulante.
URL:https://poblenouurbandistrict.com/es/agenda/teatre-els-homes-i-els-dies/2022-05-04/
LOCATION:Teatre Nacional de Catalunya\, Plaça de les Arts\, 1\, Barcelona\, 08013
CATEGORIES:Teatro
ATTACH;FMTTYPE=image/jpeg:https://media.poblenouurbandistrict.com/2022/03/25045759/pud-agenda-2-5.jpg
END:VEVENT
BEGIN:VEVENT
DTSTART;TZID=Europe/Madrid:20220504T200000
DTEND;TZID=Europe/Madrid:20220504T213000
DTSTAMP:20260422T170544
CREATED:20220324T152802Z
LAST-MODIFIED:20220404T103010Z
UID:10002874-1651694400-1651699800@poblenouurbandistrict.com
SUMMARY:[:ca]Espectacle: L’altre[:es]Espectáculo: L’altre[:]
DESCRIPTION:L’altre es un juego provocativo\, divertido\, ingenioso y lleno de sorpresas que aborda la relación entre tecnología y deshumanización. \nDe miércoles a sábado\, 20h\nDomingo\, 18h
URL:https://poblenouurbandistrict.com/es/agenda/espectacle-laltre/2022-05-04/
LOCATION:Sala Beckett\, C. de Pere IV\, 228\, 232\, Barcelona\, Barcelona\, 08005
CATEGORIES:Teatro
ATTACH;FMTTYPE=image/jpeg:https://media.poblenouurbandistrict.com/2022/03/25045756/screenshot-2022-03-24-at-162729.jpg
END:VEVENT
BEGIN:VEVENT
DTSTART;TZID=Europe/Madrid:20220504T203000
DTEND;TZID=Europe/Madrid:20220504T223000
DTSTAMP:20260422T170544
CREATED:20220324T152232Z
LAST-MODIFIED:20220404T100939Z
UID:10002864-1651696200-1651703400@poblenouurbandistrict.com
SUMMARY:[:ca]Espectacle: La màquina de parlar[:es]Espectáculo: La màquina de parlar[:]
DESCRIPTION:La Sala Beckett presenta La màquina de parlar\, un texto de Victoria Szpunberg que relata una historia cruel y romántica donde las máquinas y las emociones se funden en un espiral de acontecimientos al límite de la existencia. \nDe miércoles a sábado\, 20:30h\nDomingo\, 18:30h
URL:https://poblenouurbandistrict.com/es/agenda/espectacle-la-maquina-de-parlar/2022-05-04/
LOCATION:Sala Beckett\, C. de Pere IV\, 228\, 232\, Barcelona\, Barcelona\, 08005
CATEGORIES:Teatro
ATTACH;FMTTYPE=image/jpeg:https://media.poblenouurbandistrict.com/2022/03/25045755/pud-agenda-18.jpg
END:VEVENT
BEGIN:VEVENT
DTSTART;TZID=Europe/Madrid:20220504T210000
DTEND;TZID=Europe/Madrid:20220504T223000
DTSTAMP:20260422T170544
CREATED:20220411T110037Z
LAST-MODIFIED:20220411T110037Z
UID:10002765-1651698000-1651703400@poblenouurbandistrict.com
SUMMARY:[:ca]Concert: Whindersson Nunes[:es]Concierto: Whindersson Nunes[:en]Concert: Whindersson Nunes[:]
DESCRIPTION:Comediante\, youtuber\, cantante\, actor\, escritor\, emprendedor y uno de los influencers digitales más grandes del mundo\, Whindersson Nunes hará un concierto en el Teatro Casino L’Aliança el día 4 de mayo.
URL:https://poblenouurbandistrict.com/es/agenda/concert-whindersson-nunes/
LOCATION:Casino l’aliança del Poblenou\, Rambla del Poblenou\, 42\,\, Barcelona\, Barcelona\, 08005\, Espanya
CATEGORIES:Música,Teatro
ATTACH;FMTTYPE=image/png:https://poblenouurbandistrict.com/wp-content/uploads/2022/04/pud-agenda.jpg
END:VEVENT
BEGIN:VEVENT
DTSTART;VALUE=DATE:20220505
DTEND;VALUE=DATE:20220506
DTSTAMP:20260422T170544
CREATED:20220331T152022Z
LAST-MODIFIED:20220404T103314Z
UID:10003108-1651708800-1651795199@poblenouurbandistrict.com
SUMMARY:[:ca]Mostra: Travessem el mirall ja![:es]Muestra: ¡Atravesemos el espejo ya![:en]Exhibition: Let's go through the mirror now![:]
DESCRIPTION:L’Obrador de Filosofia es un espacio de reflexión y creación abierto a la interacción de diversas disciplinas escénicas desde una perspectiva filosófica\, dirigiendo la mirada al pensamiento contemporáneo\, a las contradicciones de la cotidianidad\, a las dramaturgias de hoy y a la búsqueda de nuevos espacios de diálogo interdisciplinario. \nEsta muestra forma parte del ciclo Máquina Persona. Inteligencia Artificial y creación que quiere alimentar las reflexiones alrededor de la Inteligencia Artificial\, partiendo de los supuestos filosóficos y artísticos en procesos de creación híbrida.
URL:https://poblenouurbandistrict.com/es/agenda/mostra-travessem-el-mirall-ja/2022-05-05/
LOCATION:Sala Beckett\, C. de Pere IV\, 228\, 232\, Barcelona\, Barcelona\, 08005
CATEGORIES:Exposición,Teatro,Charla
ATTACH;FMTTYPE=image/jpeg:https://media.poblenouurbandistrict.com/2022/03/25050153/travessem-el-mirall.jpg
END:VEVENT
BEGIN:VEVENT
DTSTART;TZID=Europe/Madrid:20220505T100000
DTEND;TZID=Europe/Madrid:20220505T110000
DTSTAMP:20260422T170544
CREATED:20220324T160020Z
LAST-MODIFIED:20220404T102413Z
UID:10002936-1651744800-1651748400@poblenouurbandistrict.com
SUMMARY:[:ca]Teatre: Bye bye\, Confetti[:es]Teatro: Bye bye\, Confetti[:]
DESCRIPTION:Bye bye\, Confetti\, una historia de payasos tierna y divertida con el sello de calidad de La Baldufa. \nMiércoles\, jueves y viernes a las 10 h (Función escolar)\nSábado a las 17 h\nDomingo a las 12 h
URL:https://poblenouurbandistrict.com/es/agenda/teatre-bye-bye-confetti/2022-05-05/
LOCATION:Teatre Nacional de Catalunya\, Plaça de les Arts\, 1\, Barcelona\, 08013
CATEGORIES:Teatro
ATTACH;FMTTYPE=image/jpeg:https://media.poblenouurbandistrict.com/2022/03/25045800/screenshot-2022-03-24-at-165640.jpg
END:VEVENT
BEGIN:VEVENT
DTSTART;TZID=Europe/Madrid:20220505T190000
DTEND;TZID=Europe/Madrid:20220505T201500
DTSTAMP:20260422T170544
CREATED:20220324T160626Z
LAST-MODIFIED:20220404T103748Z
UID:10002942-1651777200-1651781700@poblenouurbandistrict.com
SUMMARY:[:ca]Teatre: Patatas fritas falsas[:es]Teatro: Patatas fritas falsas[:]
DESCRIPTION:Agnés Mateus y Quim Tarrida atacan temas políticos\, sociales y dicen las verdades a la cara. Traen a la luz eso que el statu quo quiere silenciar y ponen nombre a las víctimas del sistema. \nMiércoles\, jueves\, viernes y sábados a las 19 h\nDomingos a las 18 h
URL:https://poblenouurbandistrict.com/es/agenda/teatre-patatas-fritas-falsas/2022-05-05/
LOCATION:Teatre Nacional de Catalunya\, Plaça de les Arts\, 1\, Barcelona\, 08013
CATEGORIES:Teatro
ATTACH;FMTTYPE=image/jpeg:https://media.poblenouurbandistrict.com/2022/03/25045802/pud-agenda-3-5.jpg
END:VEVENT
BEGIN:VEVENT
DTSTART;TZID=Europe/Madrid:20220505T190000
DTEND;TZID=Europe/Madrid:20220505T223000
DTSTAMP:20260422T170544
CREATED:20220324T155110Z
LAST-MODIFIED:20220404T083614Z
UID:10002911-1651777200-1651789800@poblenouurbandistrict.com
SUMMARY:[:ca]Teatre: Els homes i els dies[:es]Teatro: Els homes i els dies[:]
DESCRIPTION:Els homes i els dies es la autobiografía póstuma de David Vilaseca\, donde encontramos una voz poderosa y una literatura provocadora y estimulante.
URL:https://poblenouurbandistrict.com/es/agenda/teatre-els-homes-i-els-dies/2022-05-05/
LOCATION:Teatre Nacional de Catalunya\, Plaça de les Arts\, 1\, Barcelona\, 08013
CATEGORIES:Teatro
ATTACH;FMTTYPE=image/jpeg:https://media.poblenouurbandistrict.com/2022/03/25045759/pud-agenda-2-5.jpg
END:VEVENT
BEGIN:VEVENT
DTSTART;TZID=Europe/Madrid:20220505T200000
DTEND;TZID=Europe/Madrid:20220505T213000
DTSTAMP:20260422T170544
CREATED:20220324T152802Z
LAST-MODIFIED:20220404T103010Z
UID:10002875-1651780800-1651786200@poblenouurbandistrict.com
SUMMARY:[:ca]Espectacle: L’altre[:es]Espectáculo: L’altre[:]
DESCRIPTION:L’altre es un juego provocativo\, divertido\, ingenioso y lleno de sorpresas que aborda la relación entre tecnología y deshumanización. \nDe miércoles a sábado\, 20h\nDomingo\, 18h
URL:https://poblenouurbandistrict.com/es/agenda/espectacle-laltre/2022-05-05/
LOCATION:Sala Beckett\, C. de Pere IV\, 228\, 232\, Barcelona\, Barcelona\, 08005
CATEGORIES:Teatro
ATTACH;FMTTYPE=image/jpeg:https://media.poblenouurbandistrict.com/2022/03/25045756/screenshot-2022-03-24-at-162729.jpg
END:VEVENT
BEGIN:VEVENT
DTSTART;TZID=Europe/Madrid:20220505T203000
DTEND;TZID=Europe/Madrid:20220505T223000
DTSTAMP:20260422T170544
CREATED:20220324T152232Z
LAST-MODIFIED:20220404T100939Z
UID:10002865-1651782600-1651789800@poblenouurbandistrict.com
SUMMARY:[:ca]Espectacle: La màquina de parlar[:es]Espectáculo: La màquina de parlar[:]
DESCRIPTION:La Sala Beckett presenta La màquina de parlar\, un texto de Victoria Szpunberg que relata una historia cruel y romántica donde las máquinas y las emociones se funden en un espiral de acontecimientos al límite de la existencia. \nDe miércoles a sábado\, 20:30h\nDomingo\, 18:30h
URL:https://poblenouurbandistrict.com/es/agenda/espectacle-la-maquina-de-parlar/2022-05-05/
LOCATION:Sala Beckett\, C. de Pere IV\, 228\, 232\, Barcelona\, Barcelona\, 08005
CATEGORIES:Teatro
ATTACH;FMTTYPE=image/jpeg:https://media.poblenouurbandistrict.com/2022/03/25045755/pud-agenda-18.jpg
END:VEVENT
BEGIN:VEVENT
DTSTART;TZID=Europe/Madrid:20220506T100000
DTEND;TZID=Europe/Madrid:20220506T110000
DTSTAMP:20260422T170544
CREATED:20220324T160020Z
LAST-MODIFIED:20220404T102413Z
UID:10002937-1651831200-1651834800@poblenouurbandistrict.com
SUMMARY:[:ca]Teatre: Bye bye\, Confetti[:es]Teatro: Bye bye\, Confetti[:]
DESCRIPTION:Bye bye\, Confetti\, una historia de payasos tierna y divertida con el sello de calidad de La Baldufa. \nMiércoles\, jueves y viernes a las 10 h (Función escolar)\nSábado a las 17 h\nDomingo a las 12 h
URL:https://poblenouurbandistrict.com/es/agenda/teatre-bye-bye-confetti/2022-05-06/
LOCATION:Teatre Nacional de Catalunya\, Plaça de les Arts\, 1\, Barcelona\, 08013
CATEGORIES:Teatro
ATTACH;FMTTYPE=image/jpeg:https://media.poblenouurbandistrict.com/2022/03/25045800/screenshot-2022-03-24-at-165640.jpg
END:VEVENT
BEGIN:VEVENT
DTSTART;TZID=Europe/Madrid:20220506T190000
DTEND;TZID=Europe/Madrid:20220506T201500
DTSTAMP:20260422T170544
CREATED:20220324T160626Z
LAST-MODIFIED:20220404T103748Z
UID:10002943-1651863600-1651868100@poblenouurbandistrict.com
SUMMARY:[:ca]Teatre: Patatas fritas falsas[:es]Teatro: Patatas fritas falsas[:]
DESCRIPTION:Agnés Mateus y Quim Tarrida atacan temas políticos\, sociales y dicen las verdades a la cara. Traen a la luz eso que el statu quo quiere silenciar y ponen nombre a las víctimas del sistema. \nMiércoles\, jueves\, viernes y sábados a las 19 h\nDomingos a las 18 h
URL:https://poblenouurbandistrict.com/es/agenda/teatre-patatas-fritas-falsas/2022-05-06/
LOCATION:Teatre Nacional de Catalunya\, Plaça de les Arts\, 1\, Barcelona\, 08013
CATEGORIES:Teatro
ATTACH;FMTTYPE=image/jpeg:https://media.poblenouurbandistrict.com/2022/03/25045802/pud-agenda-3-5.jpg
END:VEVENT
BEGIN:VEVENT
DTSTART;TZID=Europe/Madrid:20220506T190000
DTEND;TZID=Europe/Madrid:20220506T223000
DTSTAMP:20260422T170544
CREATED:20220324T155110Z
LAST-MODIFIED:20220404T083614Z
UID:10002912-1651863600-1651876200@poblenouurbandistrict.com
SUMMARY:[:ca]Teatre: Els homes i els dies[:es]Teatro: Els homes i els dies[:]
DESCRIPTION:Els homes i els dies es la autobiografía póstuma de David Vilaseca\, donde encontramos una voz poderosa y una literatura provocadora y estimulante.
URL:https://poblenouurbandistrict.com/es/agenda/teatre-els-homes-i-els-dies/2022-05-06/
LOCATION:Teatre Nacional de Catalunya\, Plaça de les Arts\, 1\, Barcelona\, 08013
CATEGORIES:Teatro
ATTACH;FMTTYPE=image/jpeg:https://media.poblenouurbandistrict.com/2022/03/25045759/pud-agenda-2-5.jpg
END:VEVENT
BEGIN:VEVENT
DTSTART;TZID=Europe/Madrid:20220506T200000
DTEND;TZID=Europe/Madrid:20220506T213000
DTSTAMP:20260422T170544
CREATED:20220324T152802Z
LAST-MODIFIED:20220404T103010Z
UID:10002876-1651867200-1651872600@poblenouurbandistrict.com
SUMMARY:[:ca]Espectacle: L’altre[:es]Espectáculo: L’altre[:]
DESCRIPTION:L’altre es un juego provocativo\, divertido\, ingenioso y lleno de sorpresas que aborda la relación entre tecnología y deshumanización. \nDe miércoles a sábado\, 20h\nDomingo\, 18h
URL:https://poblenouurbandistrict.com/es/agenda/espectacle-laltre/2022-05-06/
LOCATION:Sala Beckett\, C. de Pere IV\, 228\, 232\, Barcelona\, Barcelona\, 08005
CATEGORIES:Teatro
ATTACH;FMTTYPE=image/jpeg:https://media.poblenouurbandistrict.com/2022/03/25045756/screenshot-2022-03-24-at-162729.jpg
END:VEVENT
BEGIN:VEVENT
DTSTART;TZID=Europe/Madrid:20220506T203000
DTEND;TZID=Europe/Madrid:20220506T223000
DTSTAMP:20260422T170544
CREATED:20220324T152232Z
LAST-MODIFIED:20220404T100939Z
UID:10002866-1651869000-1651876200@poblenouurbandistrict.com
SUMMARY:[:ca]Espectacle: La màquina de parlar[:es]Espectáculo: La màquina de parlar[:]
DESCRIPTION:La Sala Beckett presenta La màquina de parlar\, un texto de Victoria Szpunberg que relata una historia cruel y romántica donde las máquinas y las emociones se funden en un espiral de acontecimientos al límite de la existencia. \nDe miércoles a sábado\, 20:30h\nDomingo\, 18:30h
URL:https://poblenouurbandistrict.com/es/agenda/espectacle-la-maquina-de-parlar/2022-05-06/
LOCATION:Sala Beckett\, C. de Pere IV\, 228\, 232\, Barcelona\, Barcelona\, 08005
CATEGORIES:Teatro
ATTACH;FMTTYPE=image/jpeg:https://media.poblenouurbandistrict.com/2022/03/25045755/pud-agenda-18.jpg
END:VEVENT
BEGIN:VEVENT
DTSTART;VALUE=DATE:20220507
DTEND;VALUE=DATE:20220508
DTSTAMP:20260422T170544
CREATED:20220310T171738Z
LAST-MODIFIED:20220405T220009Z
UID:10002739-1651881600-1651967999@poblenouurbandistrict.com
SUMMARY:[:ca]Poblenou Open Day[:es]Poblenou Open Day[:]
DESCRIPTION:El próximo 7 de mayo celebramos el Poblenou Open Day\, una jornada donde la comunidad creativa de Poblenou Urban District abre espacios ofreciendo una programación variada\, en la que se invita al público a descubrir la oferta del distrito cultural y creativo de Barcelona.
URL:https://poblenouurbandistrict.com/es/agenda/poblenou-open-day/
LOCATION:Poblenou Urban District\, Pujades 99\, bxs.\, Barcelona\, Catalunya\, España
CATEGORIES:Curso,Exposición,Gastronomía,Música,Taller,Teatro,Charla
ATTACH;FMTTYPE=image/jpeg:https://media.poblenouurbandistrict.com/2022/03/25045127/open-day.jpg
ORGANIZER;CN="Poblenou Urban District":MAILTO:info@poblenouurbandistrict.com
END:VEVENT
BEGIN:VEVENT
DTSTART;TZID=Europe/Madrid:20220507T170000
DTEND;TZID=Europe/Madrid:20220507T180000
DTSTAMP:20260422T170544
CREATED:20221129T165547Z
LAST-MODIFIED:20221129T165547Z
UID:10002939-1651942800-1651946400@poblenouurbandistrict.com
SUMMARY:[:ca]Teatre: Bye bye\, Confetti[:es]Teatro: Bye bye\, Confetti[:]
DESCRIPTION:Bye bye\, Confetti\, una historia de payasos tierna y divertida con el sello de calidad de La Baldufa. \nMiércoles\, jueves y viernes a las 10 h (Función escolar)\nSábado a las 17 h\nDomingo a las 12 h
URL:https://poblenouurbandistrict.com/es/agenda/teatre-bye-bye-confetti/2022-05-07/
LOCATION:Teatre Nacional de Catalunya\, Plaça de les Arts\, 1\, Barcelona\, 08013
CATEGORIES:Teatro
ATTACH;FMTTYPE=image/jpeg:https://media.poblenouurbandistrict.com/2022/03/25045800/screenshot-2022-03-24-at-165640.jpg
END:VEVENT
BEGIN:VEVENT
DTSTART;TZID=Europe/Madrid:20220507T190000
DTEND;TZID=Europe/Madrid:20220507T201500
DTSTAMP:20260422T170544
CREATED:20220324T160626Z
LAST-MODIFIED:20220404T103748Z
UID:10002944-1651950000-1651954500@poblenouurbandistrict.com
SUMMARY:[:ca]Teatre: Patatas fritas falsas[:es]Teatro: Patatas fritas falsas[:]
DESCRIPTION:Agnés Mateus y Quim Tarrida atacan temas políticos\, sociales y dicen las verdades a la cara. Traen a la luz eso que el statu quo quiere silenciar y ponen nombre a las víctimas del sistema. \nMiércoles\, jueves\, viernes y sábados a las 19 h\nDomingos a las 18 h
URL:https://poblenouurbandistrict.com/es/agenda/teatre-patatas-fritas-falsas/2022-05-07/
LOCATION:Teatre Nacional de Catalunya\, Plaça de les Arts\, 1\, Barcelona\, 08013
CATEGORIES:Teatro
ATTACH;FMTTYPE=image/jpeg:https://media.poblenouurbandistrict.com/2022/03/25045802/pud-agenda-3-5.jpg
END:VEVENT
BEGIN:VEVENT
DTSTART;TZID=Europe/Madrid:20220507T190000
DTEND;TZID=Europe/Madrid:20220507T223000
DTSTAMP:20260422T170544
CREATED:20220324T155110Z
LAST-MODIFIED:20220404T083614Z
UID:10002913-1651950000-1651962600@poblenouurbandistrict.com
SUMMARY:[:ca]Teatre: Els homes i els dies[:es]Teatro: Els homes i els dies[:]
DESCRIPTION:Els homes i els dies es la autobiografía póstuma de David Vilaseca\, donde encontramos una voz poderosa y una literatura provocadora y estimulante.
URL:https://poblenouurbandistrict.com/es/agenda/teatre-els-homes-i-els-dies/2022-05-07/
LOCATION:Teatre Nacional de Catalunya\, Plaça de les Arts\, 1\, Barcelona\, 08013
CATEGORIES:Teatro
ATTACH;FMTTYPE=image/jpeg:https://media.poblenouurbandistrict.com/2022/03/25045759/pud-agenda-2-5.jpg
END:VEVENT
BEGIN:VEVENT
DTSTART;TZID=Europe/Madrid:20220507T200000
DTEND;TZID=Europe/Madrid:20220507T213000
DTSTAMP:20260422T170544
CREATED:20220324T152802Z
LAST-MODIFIED:20220404T103010Z
UID:10002877-1651953600-1651959000@poblenouurbandistrict.com
SUMMARY:[:ca]Espectacle: L’altre[:es]Espectáculo: L’altre[:]
DESCRIPTION:L’altre es un juego provocativo\, divertido\, ingenioso y lleno de sorpresas que aborda la relación entre tecnología y deshumanización. \nDe miércoles a sábado\, 20h\nDomingo\, 18h
URL:https://poblenouurbandistrict.com/es/agenda/espectacle-laltre/2022-05-07/
LOCATION:Sala Beckett\, C. de Pere IV\, 228\, 232\, Barcelona\, Barcelona\, 08005
CATEGORIES:Teatro
ATTACH;FMTTYPE=image/jpeg:https://media.poblenouurbandistrict.com/2022/03/25045756/screenshot-2022-03-24-at-162729.jpg
END:VEVENT
END:VCALENDAR