BEGIN:VCALENDAR
VERSION:2.0
PRODID:-//Poblenou Urban District - ECPv6.15.20//NONSGML v1.0//EN
CALSCALE:GREGORIAN
METHOD:PUBLISH
X-ORIGINAL-URL:https://poblenouurbandistrict.com/es
X-WR-CALDESC:Eventos para Poblenou Urban District
REFRESH-INTERVAL;VALUE=DURATION:PT1H
X-Robots-Tag:noindex
X-PUBLISHED-TTL:PT1H
BEGIN:VTIMEZONE
TZID:Europe/Madrid
BEGIN:DAYLIGHT
TZOFFSETFROM:+0100
TZOFFSETTO:+0200
TZNAME:CEST
DTSTART:20220327T010000
END:DAYLIGHT
BEGIN:STANDARD
TZOFFSETFROM:+0200
TZOFFSETTO:+0100
TZNAME:CET
DTSTART:20221030T010000
END:STANDARD
BEGIN:DAYLIGHT
TZOFFSETFROM:+0100
TZOFFSETTO:+0200
TZNAME:CEST
DTSTART:20230326T010000
END:DAYLIGHT
BEGIN:STANDARD
TZOFFSETFROM:+0200
TZOFFSETTO:+0100
TZNAME:CET
DTSTART:20231029T010000
END:STANDARD
BEGIN:DAYLIGHT
TZOFFSETFROM:+0100
TZOFFSETTO:+0200
TZNAME:CEST
DTSTART:20240331T010000
END:DAYLIGHT
BEGIN:STANDARD
TZOFFSETFROM:+0200
TZOFFSETTO:+0100
TZNAME:CET
DTSTART:20241027T010000
END:STANDARD
END:VTIMEZONE
BEGIN:VEVENT
DTSTART;VALUE=DATE:20231115
DTEND;VALUE=DATE:20231204
DTSTAMP:20260421T040812
CREATED:20230929T104327Z
LAST-MODIFIED:20230929T104327Z
UID:10006731-1700006400-1701647999@poblenouurbandistrict.com
SUMMARY:[:ca]Obra "La festa"[:es]Obra "La festa"[:]
DESCRIPTION:
URL:https://poblenouurbandistrict.com/es/agenda/obra-la-festa/
LOCATION:Teatre Nacional de Catalunya\, Plaça de les Arts\, 1\, Barcelona\, 08013
CATEGORIES:Teatro
END:VEVENT
BEGIN:VEVENT
DTSTART;VALUE=DATE:20231115
DTEND;VALUE=DATE:20231204
DTSTAMP:20260421T040812
CREATED:20231020T113528Z
LAST-MODIFIED:20231020T113528Z
UID:10006758-1700006400-1701647999@poblenouurbandistrict.com
SUMMARY:[:ca]Obra "La Festa"[:es]Obra "La Festa"[:]
DESCRIPTION:
URL:https://poblenouurbandistrict.com/es/agenda/obra-la-festa-2/
LOCATION:Teatre Nacional de Catalunya\, Plaça de les Arts\, 1\, Barcelona\, 08013
CATEGORIES:Teatro
END:VEVENT
BEGIN:VEVENT
DTSTART;VALUE=DATE:20231123
DTEND;VALUE=DATE:20231231
DTSTAMP:20260421T040812
CREATED:20230929T104525Z
LAST-MODIFIED:20230929T104525Z
UID:10006732-1700697600-1703980799@poblenouurbandistrict.com
SUMMARY:[:ca]Obra " La mare de Frankenstein"[:es]Obra " La madre de Frankenstein"[:]
DESCRIPTION:
URL:https://poblenouurbandistrict.com/es/agenda/obra-la-mare-de-frankenstein/
LOCATION:Teatre Nacional de Catalunya\, Plaça de les Arts\, 1\, Barcelona\, 08013
CATEGORIES:Teatro
END:VEVENT
BEGIN:VEVENT
DTSTART;TZID=Europe/Madrid:20231123T080000
DTEND;TZID=Europe/Madrid:20231230T170000
DTSTAMP:20260421T040812
CREATED:20231020T113657Z
LAST-MODIFIED:20231020T113657Z
UID:10006759-1700726400-1703955600@poblenouurbandistrict.com
SUMMARY:[:ca]Obra "La madre de Frankenstein"[:es]Obra "La madre de Frankenstein"[:]
DESCRIPTION:
URL:https://poblenouurbandistrict.com/es/agenda/obra-la-madre-de-frankenstein/
CATEGORIES:Teatro
END:VEVENT
BEGIN:VEVENT
DTSTART;TZID=Europe/Madrid:20231201T190000
DTEND;TZID=Europe/Madrid:20231202T190000
DTSTAMP:20260421T040812
CREATED:20230929T105635Z
LAST-MODIFIED:20230929T105635Z
UID:10006734-1701457200-1701543600@poblenouurbandistrict.com
SUMMARY:[:ca]Obra "La Extinció"[:es]Obra "La Extinción"[:]
DESCRIPTION:
URL:https://poblenouurbandistrict.com/es/agenda/obra-la-extincio/2023-12-01/
LOCATION:Teatre Nacional de Catalunya\, Plaça de les Arts\, 1\, Barcelona\, 08013
CATEGORIES:Teatro
END:VEVENT
BEGIN:VEVENT
DTSTART;TZID=Europe/Madrid:20231203T180000
DTEND;TZID=Europe/Madrid:20231203T180000
DTSTAMP:20260421T040812
CREATED:20230929T105635Z
LAST-MODIFIED:20230929T105635Z
UID:10006735-1701626400-1701626400@poblenouurbandistrict.com
SUMMARY:[:ca]Obra "La Extinció"[:es]Obra "La Extinción"[:]
DESCRIPTION:
URL:https://poblenouurbandistrict.com/es/agenda/obra-la-extincio/2023-12-03/
LOCATION:Teatre Nacional de Catalunya\, Plaça de les Arts\, 1\, Barcelona\, 08013
CATEGORIES:Teatro
END:VEVENT
BEGIN:VEVENT
DTSTART;VALUE=DATE:20231213
DTEND;VALUE=DATE:20231231
DTSTAMP:20260421T040812
CREATED:20230929T111409Z
LAST-MODIFIED:20230929T111409Z
UID:10006736-1702425600-1703980799@poblenouurbandistrict.com
SUMMARY:[:ca]Obra "Bajau"[:es]Obra "Bajau"[:]
DESCRIPTION:
URL:https://poblenouurbandistrict.com/es/agenda/obra-bajau/
LOCATION:Teatre Nacional de Catalunya\, Plaça de les Arts\, 1\, Barcelona\, 08013
CATEGORIES:Teatro
END:VEVENT
BEGIN:VEVENT
DTSTART;TZID=Europe/Madrid:20231214T190000
DTEND;TZID=Europe/Madrid:20231216T190000
DTSTAMP:20260421T040812
CREATED:20230929T111619Z
LAST-MODIFIED:20230929T111619Z
UID:10006738-1702580400-1702753200@poblenouurbandistrict.com
SUMMARY:[:ca]Obra "Altres Formes"[:es]Obra "Altres Formes"[:]
DESCRIPTION:
URL:https://poblenouurbandistrict.com/es/agenda/obra-altres-formes/2023-12-14/
LOCATION:Teatre Nacional de Catalunya\, Plaça de les Arts\, 1\, Barcelona\, 08013
CATEGORIES:Teatro
END:VEVENT
END:VCALENDAR