BEGIN:VCALENDAR
VERSION:2.0
PRODID:-//Poblenou Urban District - ECPv6.15.20//NONSGML v1.0//EN
CALSCALE:GREGORIAN
METHOD:PUBLISH
X-WR-CALNAME:Poblenou Urban District
X-ORIGINAL-URL:https://poblenouurbandistrict.com/es
X-WR-CALDESC:Eventos para Poblenou Urban District
REFRESH-INTERVAL;VALUE=DURATION:PT1H
X-Robots-Tag:noindex
X-PUBLISHED-TTL:PT1H
BEGIN:VTIMEZONE
TZID:Europe/Madrid
BEGIN:DAYLIGHT
TZOFFSETFROM:+0100
TZOFFSETTO:+0200
TZNAME:CEST
DTSTART:20210328T010000
END:DAYLIGHT
BEGIN:STANDARD
TZOFFSETFROM:+0200
TZOFFSETTO:+0100
TZNAME:CET
DTSTART:20211031T010000
END:STANDARD
BEGIN:DAYLIGHT
TZOFFSETFROM:+0100
TZOFFSETTO:+0200
TZNAME:CEST
DTSTART:20220327T010000
END:DAYLIGHT
BEGIN:STANDARD
TZOFFSETFROM:+0200
TZOFFSETTO:+0100
TZNAME:CET
DTSTART:20221030T010000
END:STANDARD
BEGIN:DAYLIGHT
TZOFFSETFROM:+0100
TZOFFSETTO:+0200
TZNAME:CEST
DTSTART:20230326T010000
END:DAYLIGHT
BEGIN:STANDARD
TZOFFSETFROM:+0200
TZOFFSETTO:+0100
TZNAME:CET
DTSTART:20231029T010000
END:STANDARD
END:VTIMEZONE
BEGIN:VEVENT
DTSTART;VALUE=DATE:20220126
DTEND;VALUE=DATE:20220221
DTSTAMP:20260423T033358
CREATED:20220209T125715Z
LAST-MODIFIED:20220209T125715Z
UID:10002324-1643155200-1645401599@poblenouurbandistrict.com
SUMMARY:[:ca]Teatre: La casa del dolor[:es]Teatro: La casa del dolor[:]
DESCRIPTION:26/01/2022 al 20/02/2022 \nLa casa del dolor \nVíctor Sánchez Rodríguez \nSala Petita \nUna familia se reúne para cenar en honor de Juli\, el hijo\, que ha finalizado sus estudios de piano. Han preparado un festín. Pero Juli no se presenta. Ante esta desaparición\, cada familiar afronta la situación de manera diferente: la madre buscará consuelo y ayuda\, el padre saldrá en busca de los lugares que frecuentaba y la hermana se encerrará en casa rodeada de melodramas y benzodiacepinas. Los caminos de cada uno entrarán en un laberinto onírico\, cómico y sorprendente a través de los cuales descubriremos los fantasmas de una familia que parecía modélica.
URL:https://poblenouurbandistrict.com/es/agenda/teatre-la-casa-del-dolor/
LOCATION:Teatre Nacional de Catalunya\, Plaça de les Arts\, 1\, Barcelona\, 08013
CATEGORIES:Teatro
ATTACH;FMTTYPE=image/jpeg:https://media.poblenouurbandistrict.com/2022/02/25044610/capture-decran-2022-02-09-a-135641.jpg
END:VEVENT
BEGIN:VEVENT
DTSTART;VALUE=DATE:20220127
DTEND;VALUE=DATE:20220307
DTSTAMP:20260423T033358
CREATED:20220209T130115Z
LAST-MODIFIED:20220209T130115Z
UID:10002325-1643241600-1646611199@poblenouurbandistrict.com
SUMMARY:[:ca]Teatre: Desig[:es]Teatro: Desig[:]
DESCRIPTION:27/01/2022 al 06/03/2022 \nDesig \nJosep Maria Benet y Jornet \nDirección Sílvia Munt \nSala Gran \nDesig es la inquietante historia de un matrimonio que ve interrumpida su vida rutinaria. Llamadas anónimas y un coche que hace señas al lado de una carretera. La misteriosa conexión con una pareja de desconocidos. Los recuerdos de una noche que casi se habían borrado.
URL:https://poblenouurbandistrict.com/es/agenda/teatre-desig/
LOCATION:Teatre Nacional de Catalunya\, Plaça de les Arts\, 1\, Barcelona\, 08013
CATEGORIES:Teatro
ATTACH;FMTTYPE=image/jpeg:https://media.poblenouurbandistrict.com/2022/02/25044611/capture-decran-2022-02-09-a-140005.jpg
END:VEVENT
BEGIN:VEVENT
DTSTART;TZID=Europe/Madrid:20220129T113000
DTEND;TZID=Europe/Madrid:20220129T133000
DTSTAMP:20260423T033358
CREATED:20220224T162032Z
LAST-MODIFIED:20220404T112628Z
UID:10002516-1643455800-1643463000@poblenouurbandistrict.com
SUMMARY:[:ca]Taller: Objectes que creen objectes[:es]Taller: Objetos que crean objetos[:]
DESCRIPTION:Os invitamos al Museu del Disseny a descubrir un proceso de producción industrial muy habitual en los objetos que tenemos en casa: el trabajo con moldes.
URL:https://poblenouurbandistrict.com/es/agenda/taller-objectes-que-creen-objectes/2022-01-29/
LOCATION:Museu del Disseny\, Plaça de les Glòries Catalanes\,\, 37\, Barcelona\, Barcelona\, 08018\, Espanya
CATEGORIES:Taller,Teatro
ATTACH;FMTTYPE=image/jpeg:https://media.poblenouurbandistrict.com/2022/02/25044917/diseno-sin-titulo-15-2.jpg
END:VEVENT
END:VCALENDAR