BEGIN:VCALENDAR
VERSION:2.0
PRODID:-//Poblenou Urban District - ECPv6.15.20//NONSGML v1.0//EN
CALSCALE:GREGORIAN
METHOD:PUBLISH
X-WR-CALNAME:Poblenou Urban District
X-ORIGINAL-URL:https://poblenouurbandistrict.com/es
X-WR-CALDESC:Eventos para Poblenou Urban District
REFRESH-INTERVAL;VALUE=DURATION:PT1H
X-Robots-Tag:noindex
X-PUBLISHED-TTL:PT1H
BEGIN:VTIMEZONE
TZID:Europe/Madrid
BEGIN:DAYLIGHT
TZOFFSETFROM:+0100
TZOFFSETTO:+0200
TZNAME:CEST
DTSTART:20210328T010000
END:DAYLIGHT
BEGIN:STANDARD
TZOFFSETFROM:+0200
TZOFFSETTO:+0100
TZNAME:CET
DTSTART:20211031T010000
END:STANDARD
BEGIN:DAYLIGHT
TZOFFSETFROM:+0100
TZOFFSETTO:+0200
TZNAME:CEST
DTSTART:20220327T010000
END:DAYLIGHT
BEGIN:STANDARD
TZOFFSETFROM:+0200
TZOFFSETTO:+0100
TZNAME:CET
DTSTART:20221030T010000
END:STANDARD
BEGIN:DAYLIGHT
TZOFFSETFROM:+0100
TZOFFSETTO:+0200
TZNAME:CEST
DTSTART:20230326T010000
END:DAYLIGHT
BEGIN:STANDARD
TZOFFSETFROM:+0200
TZOFFSETTO:+0100
TZNAME:CET
DTSTART:20231029T010000
END:STANDARD
END:VTIMEZONE
BEGIN:VEVENT
DTSTART;VALUE=DATE:20220312
DTEND;VALUE=DATE:20220314
DTSTAMP:20260422T235250
CREATED:20220224T152818Z
LAST-MODIFIED:20220307T091140Z
UID:10002463-1647043200-1647215999@poblenouurbandistrict.com
SUMMARY:[:ca]ILS NOUS ONT OUBLIÉS[:es]ILS NOUS ONT OUBLIÉS[:]
DESCRIPTION:Una reflexión sobre la locura\, la paranoia y los malos tratos y abusos perpetrados en nombre de la ciencia.
URL:https://poblenouurbandistrict.com/es/agenda/ils-nous-ont-oublies/
LOCATION:Teatre Nacional de Catalunya\, Plaça de les Arts\, 1\, Barcelona\, 08013
CATEGORIES:Teatro
ATTACH;FMTTYPE=image/jpeg:https://media.poblenouurbandistrict.com/2022/02/25044910/diseno-sin-titulo-11-2.jpg
END:VEVENT
BEGIN:VEVENT
DTSTART;TZID=Europe/Madrid:20220313T183000
DTEND;TZID=Europe/Madrid:20220313T194000
DTSTAMP:20260422T235250
CREATED:20221129T165451Z
LAST-MODIFIED:20221129T165451Z
UID:10002434-1647196200-1647200400@poblenouurbandistrict.com
SUMMARY:[:ca]Teatre: Dels intestins una soga i del cul un sac de gemecs[:es]Teatro: Dels intestins una soga i del cul un sac de gemecs[:]
DESCRIPTION:De los intestinos una soga y del trasero un saco de gemidos quiere ser una pieza donde discutir. Un ambiente desde el que hablar a gritos de la conveniencia\, la necesidad y el firme compromiso político hacia la desaparición completa de las personas. \n\nAutor \nÍntims Produccions\n\n\nDirección \nDavid Climent\n\nSábados y Domingos
URL:https://poblenouurbandistrict.com/es/agenda/dels-intestins-una-soga-i-del-cul-un-sac-de-gemecs/2022-03-13/
LOCATION:Sala Beckett\, C. de Pere IV\, 228\, 232\, Barcelona\, Barcelona\, 08005
CATEGORIES:Teatro
ATTACH;FMTTYPE=image/jpeg:https://media.poblenouurbandistrict.com/2022/02/25044855/diseno-sin-titulo-9-2.jpg
END:VEVENT
END:VCALENDAR