BEGIN:VCALENDAR
VERSION:2.0
PRODID:-//Poblenou Urban District - ECPv6.15.20//NONSGML v1.0//EN
CALSCALE:GREGORIAN
METHOD:PUBLISH
X-WR-CALNAME:Poblenou Urban District
X-ORIGINAL-URL:https://poblenouurbandistrict.com/es
X-WR-CALDESC:Eventos para Poblenou Urban District
REFRESH-INTERVAL;VALUE=DURATION:PT1H
X-Robots-Tag:noindex
X-PUBLISHED-TTL:PT1H
BEGIN:VTIMEZONE
TZID:Europe/Madrid
BEGIN:DAYLIGHT
TZOFFSETFROM:+0100
TZOFFSETTO:+0200
TZNAME:CEST
DTSTART:20210328T010000
END:DAYLIGHT
BEGIN:STANDARD
TZOFFSETFROM:+0200
TZOFFSETTO:+0100
TZNAME:CET
DTSTART:20211031T010000
END:STANDARD
BEGIN:DAYLIGHT
TZOFFSETFROM:+0100
TZOFFSETTO:+0200
TZNAME:CEST
DTSTART:20220327T010000
END:DAYLIGHT
BEGIN:STANDARD
TZOFFSETFROM:+0200
TZOFFSETTO:+0100
TZNAME:CET
DTSTART:20221030T010000
END:STANDARD
BEGIN:DAYLIGHT
TZOFFSETFROM:+0100
TZOFFSETTO:+0200
TZNAME:CEST
DTSTART:20230326T010000
END:DAYLIGHT
BEGIN:STANDARD
TZOFFSETFROM:+0200
TZOFFSETTO:+0100
TZNAME:CET
DTSTART:20231029T010000
END:STANDARD
END:VTIMEZONE
BEGIN:VEVENT
DTSTART;VALUE=DATE:20220318
DTEND;VALUE=DATE:20220321
DTSTAMP:20260422T235224
CREATED:20220224T155544Z
LAST-MODIFIED:20220224T155544Z
UID:10002490-1647561600-1647820799@poblenouurbandistrict.com
SUMMARY:[:ca]AISHA AND ABHAYA[:es]AISHA AND ABHAYA[:]
DESCRIPTION:Aisha y Abhaya son dos hermanas que viven en un mundo fantástico plagado de problemas y peligros familiares. Buscando refugio lejos de su violenta tierra natal\, luchan por sobrevivir en un nuevo país.
URL:https://poblenouurbandistrict.com/es/agenda/aisha-and-abhaya/
LOCATION:Teatre Nacional de Catalunya\, Plaça de les Arts\, 1\, Barcelona\, 08013
CATEGORIES:Teatro
ATTACH;FMTTYPE=image/jpeg:https://media.poblenouurbandistrict.com/2022/02/25044913/diseno-sin-titulo-13-2.jpg
END:VEVENT
BEGIN:VEVENT
DTSTART;TZID=Europe/Madrid:20220319T113000
DTEND;TZID=Europe/Madrid:20220319T133000
DTSTAMP:20260422T235224
CREATED:20220224T162032Z
LAST-MODIFIED:20220404T112628Z
UID:10002522-1647689400-1647696600@poblenouurbandistrict.com
SUMMARY:[:ca]Taller: Objectes que creen objectes[:es]Taller: Objetos que crean objetos[:]
DESCRIPTION:Os invitamos al Museu del Disseny a descubrir un proceso de producción industrial muy habitual en los objetos que tenemos en casa: el trabajo con moldes.
URL:https://poblenouurbandistrict.com/es/agenda/taller-objectes-que-creen-objectes/2022-03-19/
LOCATION:Museu del Disseny\, Plaça de les Glòries Catalanes\,\, 37\, Barcelona\, Barcelona\, 08018\, Espanya
CATEGORIES:Taller,Teatro
ATTACH;FMTTYPE=image/jpeg:https://media.poblenouurbandistrict.com/2022/02/25044917/diseno-sin-titulo-15-2.jpg
END:VEVENT
BEGIN:VEVENT
DTSTART;TZID=Europe/Madrid:20220319T190000
DTEND;TZID=Europe/Madrid:20220319T201500
DTSTAMP:20260422T235224
CREATED:20220224T154617Z
LAST-MODIFIED:20220404T112942Z
UID:10002466-1647716400-1647720900@poblenouurbandistrict.com
SUMMARY:[:ca]Harakiri[:es]Harakiri[:]
DESCRIPTION:Harakiri quiere librar de tabúes y estigmas todo lo que rodea al suicidio para contemplarlo como una opción racional. En la escena\, lugar que permite revivir y remorir a los fallecidos\, se produce una cita imposible entre dos adultos que\, un día\, en un pequeño universo\, fueron madre e hijo.
URL:https://poblenouurbandistrict.com/es/agenda/harakiri/2022-03-19/
LOCATION:Teatre Nacional de Catalunya\, Plaça de les Arts\, 1\, Barcelona\, 08013
CATEGORIES:Teatro
ATTACH;FMTTYPE=image/jpeg:https://media.poblenouurbandistrict.com/2022/02/25044911/diseno-sin-titulo-12-2.jpg
END:VEVENT
BEGIN:VEVENT
DTSTART;TZID=Europe/Madrid:20220319T200000
DTEND;TZID=Europe/Madrid:20220319T213000
DTSTAMP:20260422T235224
CREATED:20220223T171121Z
LAST-MODIFIED:20220404T113643Z
UID:10002443-1647720000-1647725400@poblenouurbandistrict.com
SUMMARY:[:ca]Obsolescència programada[:es]Obsolescencia programada[:]
DESCRIPTION:Una mujer\, alrededor de la cincuentena\, entra en una tienda de electrodomésticos\, echa un vistazo y marcha. La misma mujer\, poco después\, vuelve a entrar\, hace una pregunta a la dependienta y se marcha. Vivimos en el mundo de la obsolescencia programada\, cuando una lavadora se estropea o se hace vieja\, enseguida la cambiamos por una nueva. Y eso es lo que pensamos que quiere hacer esa mujer: comprar una lavadora. Pero no\, no tiene intención de comprar nada. Entonces\, ¿por qué vuelve a entrar una tercera vez? \nAutora\nAnna Maria Ricart Codina\nDirección\nMònica Bofill \nMiércoles\, Sábados y Domingos
URL:https://poblenouurbandistrict.com/es/agenda/obsolescencia-programada/2022-03-19/
LOCATION:Sala Beckett\, C. de Pere IV\, 228\, 232\, Barcelona\, Barcelona\, 08005
CATEGORIES:Teatro
ATTACH;FMTTYPE=image/jpeg:https://media.poblenouurbandistrict.com/2022/02/25044857/diseno-sin-titulo-10-2.jpg
END:VEVENT
BEGIN:VEVENT
DTSTART;TZID=Europe/Madrid:20220319T203000
DTEND;TZID=Europe/Madrid:20220319T214000
DTSTAMP:20260422T235224
CREATED:20220223T165858Z
LAST-MODIFIED:20220404T115059Z
UID:10002425-1647721800-1647726000@poblenouurbandistrict.com
SUMMARY:[:ca]Teatre: Dels intestins una soga i del cul un sac de gemecs[:es]Teatro: Dels intestins una soga i del cul un sac de gemecs[:]
DESCRIPTION:De los intestinos una soga y del trasero un saco de gemidos quiere ser una pieza donde discutir. Un ambiente desde el que hablar a gritos de la conveniencia\, la necesidad y el firme compromiso político hacia la desaparición completa de las personas. \n\nAutor \nÍntims Produccions\n\n\nDirección \nDavid Climent\n\nSábados y Domingos
URL:https://poblenouurbandistrict.com/es/agenda/dels-intestins-una-soga-i-del-cul-un-sac-de-gemecs/2022-03-19/
LOCATION:Sala Beckett\, C. de Pere IV\, 228\, 232\, Barcelona\, Barcelona\, 08005
CATEGORIES:Teatro
ATTACH;FMTTYPE=image/jpeg:https://media.poblenouurbandistrict.com/2022/02/25044855/diseno-sin-titulo-9-2.jpg
END:VEVENT
END:VCALENDAR