BEGIN:VCALENDAR
VERSION:2.0
PRODID:-//Poblenou Urban District - ECPv6.15.20//NONSGML v1.0//EN
CALSCALE:GREGORIAN
METHOD:PUBLISH
X-ORIGINAL-URL:https://poblenouurbandistrict.com/es
X-WR-CALDESC:Eventos para Poblenou Urban District
REFRESH-INTERVAL;VALUE=DURATION:PT1H
X-Robots-Tag:noindex
X-PUBLISHED-TTL:PT1H
BEGIN:VTIMEZONE
TZID:Europe/Madrid
BEGIN:DAYLIGHT
TZOFFSETFROM:+0100
TZOFFSETTO:+0200
TZNAME:CEST
DTSTART:20210328T010000
END:DAYLIGHT
BEGIN:STANDARD
TZOFFSETFROM:+0200
TZOFFSETTO:+0100
TZNAME:CET
DTSTART:20211031T010000
END:STANDARD
BEGIN:DAYLIGHT
TZOFFSETFROM:+0100
TZOFFSETTO:+0200
TZNAME:CEST
DTSTART:20220327T010000
END:DAYLIGHT
BEGIN:STANDARD
TZOFFSETFROM:+0200
TZOFFSETTO:+0100
TZNAME:CET
DTSTART:20221030T010000
END:STANDARD
BEGIN:DAYLIGHT
TZOFFSETFROM:+0100
TZOFFSETTO:+0200
TZNAME:CEST
DTSTART:20230326T010000
END:DAYLIGHT
BEGIN:STANDARD
TZOFFSETFROM:+0200
TZOFFSETTO:+0100
TZNAME:CET
DTSTART:20231029T010000
END:STANDARD
END:VTIMEZONE
BEGIN:VEVENT
DTSTART;TZID=Europe/Madrid:20220409T113000
DTEND;TZID=Europe/Madrid:20220409T133000
DTSTAMP:20260422T223608
CREATED:20220224T162032Z
LAST-MODIFIED:20220404T112628Z
UID:10002525-1649503800-1649511000@poblenouurbandistrict.com
SUMMARY:[:ca]Taller: Objectes que creen objectes[:es]Taller: Objetos que crean objetos[:]
DESCRIPTION:Os invitamos al Museu del Disseny a descubrir un proceso de producción industrial muy habitual en los objetos que tenemos en casa: el trabajo con moldes.
URL:https://poblenouurbandistrict.com/es/agenda/taller-objectes-que-creen-objectes/2022-04-09/
LOCATION:Museu del Disseny\, Plaça de les Glòries Catalanes\,\, 37\, Barcelona\, Barcelona\, 08018\, Espanya
CATEGORIES:Taller,Teatro
ATTACH;FMTTYPE=image/jpeg:https://media.poblenouurbandistrict.com/2022/02/25044917/diseno-sin-titulo-15-2.jpg
END:VEVENT
BEGIN:VEVENT
DTSTART;TZID=Europe/Madrid:20220409T123000
DTEND;TZID=Europe/Madrid:20220409T133000
DTSTAMP:20260422T223608
CREATED:20220307T095739Z
LAST-MODIFIED:20220307T100522Z
UID:10002630-1649507400-1649511000@poblenouurbandistrict.com
SUMMARY:[:ca]Lectura dramatitzada: 365 Dones l’any[:es]Lectura dramatizada: 365 Dones l'any[:]
DESCRIPTION:A lo largo de los años\, la historia catalana ha dado grandes nombres de mujeres de estratos y profesiones diferentes que\, en muchas ocasiones\, no se les ha dado la relevancia y reconocimiento que se merecían. Con 365 Dones l’any\, el TNC inicia un nuevo ciclo dedicado a estas mujeres invisibilizadas que quiere poner de manifiesto el gran legado que nos han dejado.
URL:https://poblenouurbandistrict.com/es/agenda/teatre-365-dones-lany/
LOCATION:Teatre Nacional de Catalunya\, Plaça de les Arts\, 1\, Barcelona\, 08013
CATEGORIES:Teatro
ATTACH;FMTTYPE=image/png:https://poblenouurbandistrict.com/wp-content/uploads/2022/03/pud-agenda.jpg
END:VEVENT
BEGIN:VEVENT
DTSTART;TZID=Europe/Madrid:20220409T190000
DTEND;TZID=Europe/Madrid:20220409T201500
DTSTAMP:20260422T223608
CREATED:20220224T154617Z
LAST-MODIFIED:20220404T112942Z
UID:10002478-1649530800-1649535300@poblenouurbandistrict.com
SUMMARY:[:ca]Harakiri[:es]Harakiri[:]
DESCRIPTION:Harakiri quiere librar de tabúes y estigmas todo lo que rodea al suicidio para contemplarlo como una opción racional. En la escena\, lugar que permite revivir y remorir a los fallecidos\, se produce una cita imposible entre dos adultos que\, un día\, en un pequeño universo\, fueron madre e hijo.
URL:https://poblenouurbandistrict.com/es/agenda/harakiri/2022-04-09/
LOCATION:Teatre Nacional de Catalunya\, Plaça de les Arts\, 1\, Barcelona\, 08013
CATEGORIES:Teatro
ATTACH;FMTTYPE=image/jpeg:https://media.poblenouurbandistrict.com/2022/02/25044911/diseno-sin-titulo-12-2.jpg
END:VEVENT
BEGIN:VEVENT
DTSTART;TZID=Europe/Madrid:20220409T190000
DTEND;TZID=Europe/Madrid:20220409T220000
DTSTAMP:20260422T223608
CREATED:20221129T165454Z
LAST-MODIFIED:20221129T165454Z
UID:10002504-1649530800-1649541600@poblenouurbandistrict.com
SUMMARY:[:ca]Macbett[:es]Macbett[:]
DESCRIPTION:El Macbett de Ionesco convierte al Macbeth de Shakespeare en un relato cómico de ambición\, corrupción\, cobardía y exceso\, creando una farsa trágica que lleva la locura humana a sus extremos más salvajes.
URL:https://poblenouurbandistrict.com/es/agenda/macbett/2022-04-09/
LOCATION:Teatre Nacional de Catalunya\, Plaça de les Arts\, 1\, Barcelona\, 08013
CATEGORIES:Teatro
ATTACH;FMTTYPE=image/jpeg:https://media.poblenouurbandistrict.com/2022/02/25044915/diseno-sin-titulo-14-2.jpg
END:VEVENT
BEGIN:VEVENT
DTSTART;TZID=Europe/Madrid:20220409T200000
DTEND;TZID=Europe/Madrid:20220409T213000
DTSTAMP:20260422T223608
CREATED:20220223T171121Z
LAST-MODIFIED:20220404T113643Z
UID:10002455-1649534400-1649539800@poblenouurbandistrict.com
SUMMARY:[:ca]Obsolescència programada[:es]Obsolescencia programada[:]
DESCRIPTION:Una mujer\, alrededor de la cincuentena\, entra en una tienda de electrodomésticos\, echa un vistazo y marcha. La misma mujer\, poco después\, vuelve a entrar\, hace una pregunta a la dependienta y se marcha. Vivimos en el mundo de la obsolescencia programada\, cuando una lavadora se estropea o se hace vieja\, enseguida la cambiamos por una nueva. Y eso es lo que pensamos que quiere hacer esa mujer: comprar una lavadora. Pero no\, no tiene intención de comprar nada. Entonces\, ¿por qué vuelve a entrar una tercera vez? \nAutora\nAnna Maria Ricart Codina\nDirección\nMònica Bofill \nMiércoles\, Sábados y Domingos
URL:https://poblenouurbandistrict.com/es/agenda/obsolescencia-programada/2022-04-09/
LOCATION:Sala Beckett\, C. de Pere IV\, 228\, 232\, Barcelona\, Barcelona\, 08005
CATEGORIES:Teatro
ATTACH;FMTTYPE=image/jpeg:https://media.poblenouurbandistrict.com/2022/02/25044857/diseno-sin-titulo-10-2.jpg
END:VEVENT
BEGIN:VEVENT
DTSTART;TZID=Europe/Madrid:20220409T200000
DTEND;TZID=Europe/Madrid:20220409T220000
DTSTAMP:20260422T223608
CREATED:20220325T121850Z
LAST-MODIFIED:20220405T220018Z
UID:10002694-1649534400-1649541600@poblenouurbandistrict.com
SUMMARY:[:ca]Teatre: La volta al món en 80 ties[:es]Teatro: La volta al món en 80 ties[:]
DESCRIPTION:El Casino L’Aliança propone un viaje teatral y musical a través del teatro documental\, la performance\, las canciones\, la imagen y la danza con el que descubrirás a 80 mujeres\, muchas veces silenciadas.
URL:https://poblenouurbandistrict.com/es/agenda/teatre-la-volta-al-mon-en-80-ties/
LOCATION:Casino l’aliança del Poblenou\, Rambla del Poblenou\, 42\,\, Barcelona\, Barcelona\, 08005\, Espanya
CATEGORIES:Música,Teatro
ATTACH;FMTTYPE=image/jpeg:https://media.poblenouurbandistrict.com/2022/03/25045828/screenshot-2022-03-25-at-131813.jpg
END:VEVENT
END:VCALENDAR