BEGIN:VCALENDAR
VERSION:2.0
PRODID:-//Poblenou Urban District - ECPv6.15.20//NONSGML v1.0//EN
CALSCALE:GREGORIAN
METHOD:PUBLISH
X-WR-CALNAME:Poblenou Urban District
X-ORIGINAL-URL:https://poblenouurbandistrict.com/es
X-WR-CALDESC:Eventos para Poblenou Urban District
REFRESH-INTERVAL;VALUE=DURATION:PT1H
X-Robots-Tag:noindex
X-PUBLISHED-TTL:PT1H
BEGIN:VTIMEZONE
TZID:Europe/Madrid
BEGIN:DAYLIGHT
TZOFFSETFROM:+0100
TZOFFSETTO:+0200
TZNAME:CEST
DTSTART:20210328T010000
END:DAYLIGHT
BEGIN:STANDARD
TZOFFSETFROM:+0200
TZOFFSETTO:+0100
TZNAME:CET
DTSTART:20211031T010000
END:STANDARD
BEGIN:DAYLIGHT
TZOFFSETFROM:+0100
TZOFFSETTO:+0200
TZNAME:CEST
DTSTART:20220327T010000
END:DAYLIGHT
BEGIN:STANDARD
TZOFFSETFROM:+0200
TZOFFSETTO:+0100
TZNAME:CET
DTSTART:20221030T010000
END:STANDARD
BEGIN:DAYLIGHT
TZOFFSETFROM:+0100
TZOFFSETTO:+0200
TZNAME:CEST
DTSTART:20230326T010000
END:DAYLIGHT
BEGIN:STANDARD
TZOFFSETFROM:+0200
TZOFFSETTO:+0100
TZNAME:CET
DTSTART:20231029T010000
END:STANDARD
END:VTIMEZONE
BEGIN:VEVENT
DTSTART;TZID=Europe/Madrid:20220415T190000
DTEND;TZID=Europe/Madrid:20220415T201500
DTSTAMP:20260422T211211
CREATED:20220224T154617Z
LAST-MODIFIED:20220404T112942Z
UID:10002481-1650049200-1650053700@poblenouurbandistrict.com
SUMMARY:[:ca]Harakiri[:es]Harakiri[:]
DESCRIPTION:Harakiri quiere librar de tabúes y estigmas todo lo que rodea al suicidio para contemplarlo como una opción racional. En la escena\, lugar que permite revivir y remorir a los fallecidos\, se produce una cita imposible entre dos adultos que\, un día\, en un pequeño universo\, fueron madre e hijo.
URL:https://poblenouurbandistrict.com/es/agenda/harakiri/2022-04-15/
LOCATION:Teatre Nacional de Catalunya\, Plaça de les Arts\, 1\, Barcelona\, 08013
CATEGORIES:Teatro
ATTACH;FMTTYPE=image/jpeg:https://media.poblenouurbandistrict.com/2022/02/25044911/diseno-sin-titulo-12-2.jpg
END:VEVENT
BEGIN:VEVENT
DTSTART;TZID=Europe/Madrid:20220415T190000
DTEND;TZID=Europe/Madrid:20220415T220000
DTSTAMP:20260422T211211
CREATED:20221129T165454Z
LAST-MODIFIED:20221129T165454Z
UID:10002507-1650049200-1650060000@poblenouurbandistrict.com
SUMMARY:[:ca]Macbett[:es]Macbett[:]
DESCRIPTION:El Macbett de Ionesco convierte al Macbeth de Shakespeare en un relato cómico de ambición\, corrupción\, cobardía y exceso\, creando una farsa trágica que lleva la locura humana a sus extremos más salvajes.
URL:https://poblenouurbandistrict.com/es/agenda/macbett/2022-04-15/
LOCATION:Teatre Nacional de Catalunya\, Plaça de les Arts\, 1\, Barcelona\, 08013
CATEGORIES:Teatro
ATTACH;FMTTYPE=image/jpeg:https://media.poblenouurbandistrict.com/2022/02/25044915/diseno-sin-titulo-14-2.jpg
END:VEVENT
END:VCALENDAR