BEGIN:VCALENDAR
VERSION:2.0
PRODID:-//Poblenou Urban District - ECPv6.15.20//NONSGML v1.0//EN
CALSCALE:GREGORIAN
METHOD:PUBLISH
X-ORIGINAL-URL:https://poblenouurbandistrict.com/es
X-WR-CALDESC:Eventos para Poblenou Urban District
REFRESH-INTERVAL;VALUE=DURATION:PT1H
X-Robots-Tag:noindex
X-PUBLISHED-TTL:PT1H
BEGIN:VTIMEZONE
TZID:Europe/Madrid
BEGIN:DAYLIGHT
TZOFFSETFROM:+0100
TZOFFSETTO:+0200
TZNAME:CEST
DTSTART:20210328T010000
END:DAYLIGHT
BEGIN:STANDARD
TZOFFSETFROM:+0200
TZOFFSETTO:+0100
TZNAME:CET
DTSTART:20211031T010000
END:STANDARD
BEGIN:DAYLIGHT
TZOFFSETFROM:+0100
TZOFFSETTO:+0200
TZNAME:CEST
DTSTART:20220327T010000
END:DAYLIGHT
BEGIN:STANDARD
TZOFFSETFROM:+0200
TZOFFSETTO:+0100
TZNAME:CET
DTSTART:20221030T010000
END:STANDARD
BEGIN:DAYLIGHT
TZOFFSETFROM:+0100
TZOFFSETTO:+0200
TZNAME:CEST
DTSTART:20230326T010000
END:DAYLIGHT
BEGIN:STANDARD
TZOFFSETFROM:+0200
TZOFFSETTO:+0100
TZNAME:CET
DTSTART:20231029T010000
END:STANDARD
END:VTIMEZONE
BEGIN:VEVENT
DTSTART;TZID=Europe/Madrid:20220424T180000
DTEND;TZID=Europe/Madrid:20220424T210000
DTSTAMP:20260422T223521
CREATED:20220224T160857Z
LAST-MODIFIED:20220404T111600Z
UID:10002496-1650823200-1650834000@poblenouurbandistrict.com
SUMMARY:[:ca]Macbett[:es]Macbett[:]
DESCRIPTION:El Macbett de Ionesco convierte al Macbeth de Shakespeare en un relato cómico de ambición\, corrupción\, cobardía y exceso\, creando una farsa trágica que lleva la locura humana a sus extremos más salvajes.
URL:https://poblenouurbandistrict.com/es/agenda/macbett/2022-04-24/
LOCATION:Teatre Nacional de Catalunya\, Plaça de les Arts\, 1\, Barcelona\, 08013
CATEGORIES:Teatro
ATTACH;FMTTYPE=image/jpeg:https://media.poblenouurbandistrict.com/2022/02/25044915/diseno-sin-titulo-14-2.jpg
END:VEVENT
BEGIN:VEVENT
DTSTART;TZID=Europe/Madrid:20220424T180000
DTEND;TZID=Europe/Madrid:20220424T213000
DTSTAMP:20260422T223521
CREATED:20221129T165546Z
LAST-MODIFIED:20221129T165546Z
UID:10002926-1650823200-1650835800@poblenouurbandistrict.com
SUMMARY:[:ca]Teatre: Els homes i els dies[:es]Teatro: Els homes i els dies[:]
DESCRIPTION:Els homes i els dies es la autobiografía póstuma de David Vilaseca\, donde encontramos una voz poderosa y una literatura provocadora y estimulante.
URL:https://poblenouurbandistrict.com/es/agenda/teatre-els-homes-i-els-dies/2022-04-24/
LOCATION:Teatre Nacional de Catalunya\, Plaça de les Arts\, 1\, Barcelona\, 08013
CATEGORIES:Teatro
ATTACH;FMTTYPE=image/jpeg:https://media.poblenouurbandistrict.com/2022/03/25045759/pud-agenda-2-5.jpg
END:VEVENT
BEGIN:VEVENT
DTSTART;TZID=Europe/Madrid:20220424T183000
DTEND;TZID=Europe/Madrid:20220424T203000
DTSTAMP:20260422T223521
CREATED:20221129T165545Z
LAST-MODIFIED:20221129T165545Z
UID:10002868-1650825000-1650832200@poblenouurbandistrict.com
SUMMARY:[:ca]Espectacle: La màquina de parlar[:es]Espectáculo: La màquina de parlar[:]
DESCRIPTION:La Sala Beckett presenta La màquina de parlar\, un texto de Victoria Szpunberg que relata una historia cruel y romántica donde las máquinas y las emociones se funden en un espiral de acontecimientos al límite de la existencia. \nDe miércoles a sábado\, 20:30h\nDomingo\, 18:30h
URL:https://poblenouurbandistrict.com/es/agenda/espectacle-la-maquina-de-parlar/2022-04-24/
LOCATION:Sala Beckett\, C. de Pere IV\, 228\, 232\, Barcelona\, Barcelona\, 08005
CATEGORIES:Teatro
ATTACH;FMTTYPE=image/jpeg:https://media.poblenouurbandistrict.com/2022/03/25045755/pud-agenda-18.jpg
END:VEVENT
END:VCALENDAR