BEGIN:VCALENDAR
VERSION:2.0
PRODID:-//Poblenou Urban District - ECPv6.15.20//NONSGML v1.0//EN
CALSCALE:GREGORIAN
METHOD:PUBLISH
X-WR-CALNAME:Poblenou Urban District
X-ORIGINAL-URL:https://poblenouurbandistrict.com/es
X-WR-CALDESC:Eventos para Poblenou Urban District
REFRESH-INTERVAL;VALUE=DURATION:PT1H
X-Robots-Tag:noindex
X-PUBLISHED-TTL:PT1H
BEGIN:VTIMEZONE
TZID:Europe/Madrid
BEGIN:DAYLIGHT
TZOFFSETFROM:+0100
TZOFFSETTO:+0200
TZNAME:CEST
DTSTART:20210328T010000
END:DAYLIGHT
BEGIN:STANDARD
TZOFFSETFROM:+0200
TZOFFSETTO:+0100
TZNAME:CET
DTSTART:20211031T010000
END:STANDARD
BEGIN:DAYLIGHT
TZOFFSETFROM:+0100
TZOFFSETTO:+0200
TZNAME:CEST
DTSTART:20220327T010000
END:DAYLIGHT
BEGIN:STANDARD
TZOFFSETFROM:+0200
TZOFFSETTO:+0100
TZNAME:CET
DTSTART:20221030T010000
END:STANDARD
BEGIN:DAYLIGHT
TZOFFSETFROM:+0100
TZOFFSETTO:+0200
TZNAME:CEST
DTSTART:20230326T010000
END:DAYLIGHT
BEGIN:STANDARD
TZOFFSETFROM:+0200
TZOFFSETTO:+0100
TZNAME:CET
DTSTART:20231029T010000
END:STANDARD
END:VTIMEZONE
BEGIN:VEVENT
DTSTART;TZID=Europe/Madrid:20220501T120000
DTEND;TZID=Europe/Madrid:20220501T130000
DTSTAMP:20260422T192932
CREATED:20221129T165547Z
LAST-MODIFIED:20221129T165547Z
UID:10002940-1651406400-1651410000@poblenouurbandistrict.com
SUMMARY:[:ca]Teatre: Bye bye\, Confetti[:es]Teatro: Bye bye\, Confetti[:]
DESCRIPTION:Bye bye\, Confetti\, una historia de payasos tierna y divertida con el sello de calidad de La Baldufa. \nMiércoles\, jueves y viernes a las 10 h (Función escolar)\nSábado a las 17 h\nDomingo a las 12 h
URL:https://poblenouurbandistrict.com/es/agenda/teatre-bye-bye-confetti/2022-05-01/
LOCATION:Teatre Nacional de Catalunya\, Plaça de les Arts\, 1\, Barcelona\, 08013
CATEGORIES:Teatro
ATTACH;FMTTYPE=image/jpeg:https://media.poblenouurbandistrict.com/2022/03/25045800/screenshot-2022-03-24-at-165640.jpg
END:VEVENT
BEGIN:VEVENT
DTSTART;TZID=Europe/Madrid:20220501T180000
DTEND;TZID=Europe/Madrid:20220501T193000
DTSTAMP:20260422T192932
CREATED:20221129T165546Z
LAST-MODIFIED:20221129T165546Z
UID:10002894-1651428000-1651433400@poblenouurbandistrict.com
SUMMARY:[:ca]Espectacle: L’altre[:es]Espectáculo: L’altre[:]
DESCRIPTION:L’altre es un juego provocativo\, divertido\, ingenioso y lleno de sorpresas que aborda la relación entre tecnología y deshumanización. \nDe miércoles a sábado\, 20h\nDomingo\, 18h
URL:https://poblenouurbandistrict.com/es/agenda/espectacle-laltre/2022-05-01/
LOCATION:Sala Beckett\, C. de Pere IV\, 228\, 232\, Barcelona\, Barcelona\, 08005
CATEGORIES:Teatro
ATTACH;FMTTYPE=image/jpeg:https://media.poblenouurbandistrict.com/2022/03/25045756/screenshot-2022-03-24-at-162729.jpg
END:VEVENT
BEGIN:VEVENT
DTSTART;TZID=Europe/Madrid:20220501T180000
DTEND;TZID=Europe/Madrid:20220501T213000
DTSTAMP:20260422T192932
CREATED:20221129T165546Z
LAST-MODIFIED:20221129T165546Z
UID:10002927-1651428000-1651440600@poblenouurbandistrict.com
SUMMARY:[:ca]Teatre: Els homes i els dies[:es]Teatro: Els homes i els dies[:]
DESCRIPTION:Els homes i els dies es la autobiografía póstuma de David Vilaseca\, donde encontramos una voz poderosa y una literatura provocadora y estimulante.
URL:https://poblenouurbandistrict.com/es/agenda/teatre-els-homes-i-els-dies/2022-05-01/
LOCATION:Teatre Nacional de Catalunya\, Plaça de les Arts\, 1\, Barcelona\, 08013
CATEGORIES:Teatro
ATTACH;FMTTYPE=image/jpeg:https://media.poblenouurbandistrict.com/2022/03/25045759/pud-agenda-2-5.jpg
END:VEVENT
BEGIN:VEVENT
DTSTART;TZID=Europe/Madrid:20220501T183000
DTEND;TZID=Europe/Madrid:20220501T203000
DTSTAMP:20260422T192932
CREATED:20221129T165545Z
LAST-MODIFIED:20221129T165545Z
UID:10002869-1651429800-1651437000@poblenouurbandistrict.com
SUMMARY:[:ca]Espectacle: La màquina de parlar[:es]Espectáculo: La màquina de parlar[:]
DESCRIPTION:La Sala Beckett presenta La màquina de parlar\, un texto de Victoria Szpunberg que relata una historia cruel y romántica donde las máquinas y las emociones se funden en un espiral de acontecimientos al límite de la existencia. \nDe miércoles a sábado\, 20:30h\nDomingo\, 18:30h
URL:https://poblenouurbandistrict.com/es/agenda/espectacle-la-maquina-de-parlar/2022-05-01/
LOCATION:Sala Beckett\, C. de Pere IV\, 228\, 232\, Barcelona\, Barcelona\, 08005
CATEGORIES:Teatro
ATTACH;FMTTYPE=image/jpeg:https://media.poblenouurbandistrict.com/2022/03/25045755/pud-agenda-18.jpg
END:VEVENT
BEGIN:VEVENT
DTSTART;TZID=Europe/Madrid:20220501T190000
DTEND;TZID=Europe/Madrid:20220501T203000
DTSTAMP:20260422T192932
CREATED:20220414T110022Z
LAST-MODIFIED:20220414T110022Z
UID:10003156-1651431600-1651437000@poblenouurbandistrict.com
SUMMARY:[:ca]Concert: Borja Niso[:es]Concierto: Borja Niso[:en]Concert: Borja Niso[:]
DESCRIPTION:El pianista y compositor Borja Niso vuelve a Barcelona el 1 de mayo con su nuevo espectáculo\, LUDOVICO EXPERIENCE\, dentro de la gira Tot pel nostre Somni.
URL:https://poblenouurbandistrict.com/es/agenda/concert-borja-niso/
LOCATION:Casino l’aliança del Poblenou\, Rambla del Poblenou\, 42\,\, Barcelona\, Barcelona\, 08005\, Espanya
CATEGORIES:Música,Teatro
ATTACH;FMTTYPE=image/jpeg:https://media.poblenouurbandistrict.com/2022/04/25050410/borjatiso.jpg
END:VEVENT
END:VCALENDAR