BEGIN:VCALENDAR
VERSION:2.0
PRODID:-//Poblenou Urban District - ECPv6.15.20//NONSGML v1.0//EN
CALSCALE:GREGORIAN
METHOD:PUBLISH
X-WR-CALNAME:Poblenou Urban District
X-ORIGINAL-URL:https://poblenouurbandistrict.com/es
X-WR-CALDESC:Eventos para Poblenou Urban District
REFRESH-INTERVAL;VALUE=DURATION:PT1H
X-Robots-Tag:noindex
X-PUBLISHED-TTL:PT1H
BEGIN:VTIMEZONE
TZID:Europe/Madrid
BEGIN:DAYLIGHT
TZOFFSETFROM:+0100
TZOFFSETTO:+0200
TZNAME:CEST
DTSTART:20210328T010000
END:DAYLIGHT
BEGIN:STANDARD
TZOFFSETFROM:+0200
TZOFFSETTO:+0100
TZNAME:CET
DTSTART:20211031T010000
END:STANDARD
BEGIN:DAYLIGHT
TZOFFSETFROM:+0100
TZOFFSETTO:+0200
TZNAME:CEST
DTSTART:20220327T010000
END:DAYLIGHT
BEGIN:STANDARD
TZOFFSETFROM:+0200
TZOFFSETTO:+0100
TZNAME:CET
DTSTART:20221030T010000
END:STANDARD
BEGIN:DAYLIGHT
TZOFFSETFROM:+0100
TZOFFSETTO:+0200
TZNAME:CEST
DTSTART:20230326T010000
END:DAYLIGHT
BEGIN:STANDARD
TZOFFSETFROM:+0200
TZOFFSETTO:+0100
TZNAME:CET
DTSTART:20231029T010000
END:STANDARD
END:VTIMEZONE
BEGIN:VEVENT
DTSTART;TZID=Europe/Madrid:20220517T103000
DTEND;TZID=Europe/Madrid:20220517T133000
DTSTAMP:20260422T190931
CREATED:20220405T132757Z
LAST-MODIFIED:20220405T132757Z
UID:10003135-1652783400-1652794200@poblenouurbandistrict.com
SUMMARY:[:ca]Curs: Escena i pensament. Cap a una descolonització del llenguatge[:es]Curso: Escena y pensamiento. Hacia una descolonización del lenguaje[:en]Course: Scene and thought. Towards a decolonization of language[:]
DESCRIPTION:La Sala Beckett ofrece un curso de filosofía y teatro. Dividido en ocho sesiones de tres horas\, este combinará una parte de teoría filosófica (conectada con lecturas teatrales) con una parte de escritura y laboratorio creativo. \nMartes de 10:30 h a 13:30 h
URL:https://poblenouurbandistrict.com/es/agenda/curs-escena-i-pensament-cap-a-una-descolonitzacio-del-llenguatge/2022-05-17/
LOCATION:Sala Beckett\, C. de Pere IV\, 228\, 232\, Barcelona\, Barcelona\, 08005
CATEGORIES:Curso,Teatro
ATTACH;FMTTYPE=image/jpeg:https://media.poblenouurbandistrict.com/2022/04/25050206/curso-filosofia.jpg
END:VEVENT
END:VCALENDAR