BEGIN:VCALENDAR
VERSION:2.0
PRODID:-//Poblenou Urban District - ECPv6.15.20//NONSGML v1.0//EN
CALSCALE:GREGORIAN
METHOD:PUBLISH
X-WR-CALNAME:Poblenou Urban District
X-ORIGINAL-URL:https://poblenouurbandistrict.com/es
X-WR-CALDESC:Eventos para Poblenou Urban District
REFRESH-INTERVAL;VALUE=DURATION:PT1H
X-Robots-Tag:noindex
X-PUBLISHED-TTL:PT1H
BEGIN:VTIMEZONE
TZID:Europe/Madrid
BEGIN:DAYLIGHT
TZOFFSETFROM:+0100
TZOFFSETTO:+0200
TZNAME:CEST
DTSTART:20210328T010000
END:DAYLIGHT
BEGIN:STANDARD
TZOFFSETFROM:+0200
TZOFFSETTO:+0100
TZNAME:CET
DTSTART:20211031T010000
END:STANDARD
BEGIN:DAYLIGHT
TZOFFSETFROM:+0100
TZOFFSETTO:+0200
TZNAME:CEST
DTSTART:20220327T010000
END:DAYLIGHT
BEGIN:STANDARD
TZOFFSETFROM:+0200
TZOFFSETTO:+0100
TZNAME:CET
DTSTART:20221030T010000
END:STANDARD
BEGIN:DAYLIGHT
TZOFFSETFROM:+0100
TZOFFSETTO:+0200
TZNAME:CEST
DTSTART:20230326T010000
END:DAYLIGHT
BEGIN:STANDARD
TZOFFSETFROM:+0200
TZOFFSETTO:+0100
TZNAME:CET
DTSTART:20231029T010000
END:STANDARD
END:VTIMEZONE
BEGIN:VEVENT
DTSTART;VALUE=DATE:20220520
DTEND;VALUE=DATE:20220521
DTSTAMP:20260422T191055
CREATED:20220324T153609Z
LAST-MODIFIED:20220404T104400Z
UID:10002900-1653004800-1653091199@poblenouurbandistrict.com
SUMMARY:[:ca]Espectacle: WARE Reinforced[:es]Espectáculo: WARE Reinforced[:]
DESCRIPTION:WARE Reinforced es una instalación performativa que traslada las dinámicas virtuales al mundo físico.
URL:https://poblenouurbandistrict.com/es/agenda/espectacle-ware-reinforced/2022-05-20/
LOCATION:Sala Beckett\, C. de Pere IV\, 228\, 232\, Barcelona\, Barcelona\, 08005
CATEGORIES:Teatro
ATTACH;FMTTYPE=image/jpeg:https://media.poblenouurbandistrict.com/2022/03/25045758/pud-agenda-1-5.jpg
END:VEVENT
BEGIN:VEVENT
DTSTART;TZID=Europe/Madrid:20220520T190000
DTEND;TZID=Europe/Madrid:20220520T201500
DTSTAMP:20260422T191055
CREATED:20220324T160626Z
LAST-MODIFIED:20220404T103748Z
UID:10002951-1653073200-1653077700@poblenouurbandistrict.com
SUMMARY:[:ca]Teatre: Patatas fritas falsas[:es]Teatro: Patatas fritas falsas[:]
DESCRIPTION:Agnés Mateus y Quim Tarrida atacan temas políticos\, sociales y dicen las verdades a la cara. Traen a la luz eso que el statu quo quiere silenciar y ponen nombre a las víctimas del sistema. \nMiércoles\, jueves\, viernes y sábados a las 19 h\nDomingos a las 18 h
URL:https://poblenouurbandistrict.com/es/agenda/teatre-patatas-fritas-falsas/2022-05-20/
LOCATION:Teatre Nacional de Catalunya\, Plaça de les Arts\, 1\, Barcelona\, 08013
CATEGORIES:Teatro
ATTACH;FMTTYPE=image/jpeg:https://media.poblenouurbandistrict.com/2022/03/25045802/pud-agenda-3-5.jpg
END:VEVENT
BEGIN:VEVENT
DTSTART;TZID=Europe/Madrid:20220520T190000
DTEND;TZID=Europe/Madrid:20220520T203000
DTSTAMP:20260422T191055
CREATED:20220324T161208Z
LAST-MODIFIED:20220404T104104Z
UID:10002968-1653073200-1653078600@poblenouurbandistrict.com
SUMMARY:[:ca]Teatre: El pes d’un cos[:es]Teatro: El pes d’un cos[:]
DESCRIPTION:Sinopsis: Una hija tiene que cuidar de su padre\, quien\, tras sufrir un ictus\, vive un proceso de deterioro físico y mental que lo convierte en un ser totalmente dependiente. -La falta de recursos propios y la precariedad que viven las administraciones públicas harán que la situación entre en una especie de espiral de caída libre. \nMiércoles\, jueves\, viernes y sábado a las 19 h\nDomingo a las 18 h
URL:https://poblenouurbandistrict.com/es/agenda/teatre-el-pes-dun-cos/2022-05-20/
LOCATION:Teatre Nacional de Catalunya\, Plaça de les Arts\, 1\, Barcelona\, 08013
CATEGORIES:Teatro
ATTACH;FMTTYPE=image/jpeg:https://media.poblenouurbandistrict.com/2022/03/25045804/screenshot-2022-03-24-at-171122.jpg
END:VEVENT
BEGIN:VEVENT
DTSTART;TZID=Europe/Madrid:20220520T190000
DTEND;TZID=Europe/Madrid:20220520T223000
DTSTAMP:20260422T191055
CREATED:20220324T155110Z
LAST-MODIFIED:20220404T083614Z
UID:10002920-1653073200-1653085800@poblenouurbandistrict.com
SUMMARY:[:ca]Teatre: Els homes i els dies[:es]Teatro: Els homes i els dies[:]
DESCRIPTION:Els homes i els dies es la autobiografía póstuma de David Vilaseca\, donde encontramos una voz poderosa y una literatura provocadora y estimulante.
URL:https://poblenouurbandistrict.com/es/agenda/teatre-els-homes-i-els-dies/2022-05-20/
LOCATION:Teatre Nacional de Catalunya\, Plaça de les Arts\, 1\, Barcelona\, 08013
CATEGORIES:Teatro
ATTACH;FMTTYPE=image/jpeg:https://media.poblenouurbandistrict.com/2022/03/25045759/pud-agenda-2-5.jpg
END:VEVENT
BEGIN:VEVENT
DTSTART;TZID=Europe/Madrid:20220520T200000
DTEND;TZID=Europe/Madrid:20220520T210000
DTSTAMP:20260422T191055
CREATED:20220505T162940Z
LAST-MODIFIED:20220505T162940Z
UID:10003345-1653076800-1653080400@poblenouurbandistrict.com
SUMMARY:[:ca]Monòleg: Más o menos[:es]Monólogo: Más o menos[:en]Monologue: Más o menos[:]
DESCRIPTION:“Más o menos” de Aldo Nicolaj (1920 Fossano-2004 Orbetello) es el monólogo de una mujer sin pasado. Una mujer sin memoria\, sin nombre\, sin dirección\, que\, entre angustias\, fantaseas y sorna\, se adentra en busca de ella misma en un laberinto de abismos y desproporción.
URL:https://poblenouurbandistrict.com/es/agenda/monoleg-mas-o-menos/2022-05-20/
LOCATION:Utopia 126\, C/ de Cristóbal de Moura\, Barcelona\, 08019
CATEGORIES:Teatro
ATTACH;FMTTYPE=image/jpeg:https://media.poblenouurbandistrict.com/2022/05/25051140/screenshot-2022-05-05-at-182911.jpg
END:VEVENT
BEGIN:VEVENT
DTSTART;TZID=Europe/Madrid:20220520T200000
DTEND;TZID=Europe/Madrid:20220520T213000
DTSTAMP:20260422T191055
CREATED:20220324T152802Z
LAST-MODIFIED:20220404T103010Z
UID:10002884-1653076800-1653082200@poblenouurbandistrict.com
SUMMARY:[:ca]Espectacle: L’altre[:es]Espectáculo: L’altre[:]
DESCRIPTION:L’altre es un juego provocativo\, divertido\, ingenioso y lleno de sorpresas que aborda la relación entre tecnología y deshumanización. \nDe miércoles a sábado\, 20h\nDomingo\, 18h
URL:https://poblenouurbandistrict.com/es/agenda/espectacle-laltre/2022-05-20/
LOCATION:Sala Beckett\, C. de Pere IV\, 228\, 232\, Barcelona\, Barcelona\, 08005
CATEGORIES:Teatro
ATTACH;FMTTYPE=image/jpeg:https://media.poblenouurbandistrict.com/2022/03/25045756/screenshot-2022-03-24-at-162729.jpg
END:VEVENT
END:VCALENDAR