BEGIN:VCALENDAR
VERSION:2.0
PRODID:-//Poblenou Urban District - ECPv6.15.20//NONSGML v1.0//EN
CALSCALE:GREGORIAN
METHOD:PUBLISH
X-ORIGINAL-URL:https://poblenouurbandistrict.com/es
X-WR-CALDESC:Eventos para Poblenou Urban District
REFRESH-INTERVAL;VALUE=DURATION:PT1H
X-Robots-Tag:noindex
X-PUBLISHED-TTL:PT1H
BEGIN:VTIMEZONE
TZID:Europe/Madrid
BEGIN:DAYLIGHT
TZOFFSETFROM:+0100
TZOFFSETTO:+0200
TZNAME:CEST
DTSTART:20210328T010000
END:DAYLIGHT
BEGIN:STANDARD
TZOFFSETFROM:+0200
TZOFFSETTO:+0100
TZNAME:CET
DTSTART:20211031T010000
END:STANDARD
BEGIN:DAYLIGHT
TZOFFSETFROM:+0100
TZOFFSETTO:+0200
TZNAME:CEST
DTSTART:20220327T010000
END:DAYLIGHT
BEGIN:STANDARD
TZOFFSETFROM:+0200
TZOFFSETTO:+0100
TZNAME:CET
DTSTART:20221030T010000
END:STANDARD
BEGIN:DAYLIGHT
TZOFFSETFROM:+0100
TZOFFSETTO:+0200
TZNAME:CEST
DTSTART:20230326T010000
END:DAYLIGHT
BEGIN:STANDARD
TZOFFSETFROM:+0200
TZOFFSETTO:+0100
TZNAME:CET
DTSTART:20231029T010000
END:STANDARD
END:VTIMEZONE
BEGIN:VEVENT
DTSTART;TZID=Europe/Madrid:20220527T190000
DTEND;TZID=Europe/Madrid:20220527T200000
DTSTAMP:20260422T205633
CREATED:20220524T140553Z
LAST-MODIFIED:20220524T140553Z
UID:10003611-1653678000-1653681600@poblenouurbandistrict.com
SUMMARY:[:ca]Lecura dramatitzada: La truita[:es]Lectura dramatizada: La truita[:en]Dramatized reading: La truita[:]
DESCRIPTION:Una pareja que se acerca en la edad de jubilación acaba de mudarse en un pequeño pueblo para abrir una pequeña panadería ecológica. Casa nueva\, vida nueva\, dicen. Un domingo\, reúnen sus tres hijas y las parejas respectivas para el cumpleaños del padre.
URL:https://poblenouurbandistrict.com/es/agenda/lecura-dramatitzada-la-truita/
LOCATION:Sala Beckett\, C. de Pere IV\, 228\, 232\, Barcelona\, Barcelona\, 08005
CATEGORIES:Teatro
ATTACH;FMTTYPE=image/jpeg:https://media.poblenouurbandistrict.com/2022/05/25052044/screenshot-2022-05-24-at-160523.jpg
END:VEVENT
BEGIN:VEVENT
DTSTART;TZID=Europe/Madrid:20220527T190000
DTEND;TZID=Europe/Madrid:20220527T201500
DTSTAMP:20260422T205633
CREATED:20220324T160626Z
LAST-MODIFIED:20220404T103748Z
UID:10002955-1653678000-1653682500@poblenouurbandistrict.com
SUMMARY:[:ca]Teatre: Patatas fritas falsas[:es]Teatro: Patatas fritas falsas[:]
DESCRIPTION:Agnés Mateus y Quim Tarrida atacan temas políticos\, sociales y dicen las verdades a la cara. Traen a la luz eso que el statu quo quiere silenciar y ponen nombre a las víctimas del sistema. \nMiércoles\, jueves\, viernes y sábados a las 19 h\nDomingos a las 18 h
URL:https://poblenouurbandistrict.com/es/agenda/teatre-patatas-fritas-falsas/2022-05-27/
LOCATION:Teatre Nacional de Catalunya\, Plaça de les Arts\, 1\, Barcelona\, 08013
CATEGORIES:Teatro
ATTACH;FMTTYPE=image/jpeg:https://media.poblenouurbandistrict.com/2022/03/25045802/pud-agenda-3-5.jpg
END:VEVENT
BEGIN:VEVENT
DTSTART;TZID=Europe/Madrid:20220527T190000
DTEND;TZID=Europe/Madrid:20220527T203000
DTSTAMP:20260422T205633
CREATED:20220324T161208Z
LAST-MODIFIED:20220404T104104Z
UID:10002972-1653678000-1653683400@poblenouurbandistrict.com
SUMMARY:[:ca]Teatre: El pes d’un cos[:es]Teatro: El pes d’un cos[:]
DESCRIPTION:Sinopsis: Una hija tiene que cuidar de su padre\, quien\, tras sufrir un ictus\, vive un proceso de deterioro físico y mental que lo convierte en un ser totalmente dependiente. -La falta de recursos propios y la precariedad que viven las administraciones públicas harán que la situación entre en una especie de espiral de caída libre. \nMiércoles\, jueves\, viernes y sábado a las 19 h\nDomingo a las 18 h
URL:https://poblenouurbandistrict.com/es/agenda/teatre-el-pes-dun-cos/2022-05-27/
LOCATION:Teatre Nacional de Catalunya\, Plaça de les Arts\, 1\, Barcelona\, 08013
CATEGORIES:Teatro
ATTACH;FMTTYPE=image/jpeg:https://media.poblenouurbandistrict.com/2022/03/25045804/screenshot-2022-03-24-at-171122.jpg
END:VEVENT
BEGIN:VEVENT
DTSTART;TZID=Europe/Madrid:20220527T190000
DTEND;TZID=Europe/Madrid:20220527T223000
DTSTAMP:20260422T205633
CREATED:20220324T155110Z
LAST-MODIFIED:20220404T083614Z
UID:10002924-1653678000-1653690600@poblenouurbandistrict.com
SUMMARY:[:ca]Teatre: Els homes i els dies[:es]Teatro: Els homes i els dies[:]
DESCRIPTION:Els homes i els dies es la autobiografía póstuma de David Vilaseca\, donde encontramos una voz poderosa y una literatura provocadora y estimulante.
URL:https://poblenouurbandistrict.com/es/agenda/teatre-els-homes-i-els-dies/2022-05-27/
LOCATION:Teatre Nacional de Catalunya\, Plaça de les Arts\, 1\, Barcelona\, 08013
CATEGORIES:Teatro
ATTACH;FMTTYPE=image/jpeg:https://media.poblenouurbandistrict.com/2022/03/25045759/pud-agenda-2-5.jpg
END:VEVENT
BEGIN:VEVENT
DTSTART;TZID=Europe/Madrid:20220527T200000
DTEND;TZID=Europe/Madrid:20220527T213000
DTSTAMP:20260422T205633
CREATED:20220324T152802Z
LAST-MODIFIED:20220404T103010Z
UID:10002888-1653681600-1653687000@poblenouurbandistrict.com
SUMMARY:[:ca]Espectacle: L’altre[:es]Espectáculo: L’altre[:]
DESCRIPTION:L’altre es un juego provocativo\, divertido\, ingenioso y lleno de sorpresas que aborda la relación entre tecnología y deshumanización. \nDe miércoles a sábado\, 20h\nDomingo\, 18h
URL:https://poblenouurbandistrict.com/es/agenda/espectacle-laltre/2022-05-27/
LOCATION:Sala Beckett\, C. de Pere IV\, 228\, 232\, Barcelona\, Barcelona\, 08005
CATEGORIES:Teatro
ATTACH;FMTTYPE=image/jpeg:https://media.poblenouurbandistrict.com/2022/03/25045756/screenshot-2022-03-24-at-162729.jpg
END:VEVENT
END:VCALENDAR