BEGIN:VCALENDAR
VERSION:2.0
PRODID:-//Poblenou Urban District - ECPv6.15.20//NONSGML v1.0//EN
CALSCALE:GREGORIAN
METHOD:PUBLISH
X-ORIGINAL-URL:https://poblenouurbandistrict.com/es
X-WR-CALDESC:Eventos para Poblenou Urban District
REFRESH-INTERVAL;VALUE=DURATION:PT1H
X-Robots-Tag:noindex
X-PUBLISHED-TTL:PT1H
BEGIN:VTIMEZONE
TZID:Europe/Madrid
BEGIN:DAYLIGHT
TZOFFSETFROM:+0100
TZOFFSETTO:+0200
TZNAME:CEST
DTSTART:20210328T010000
END:DAYLIGHT
BEGIN:STANDARD
TZOFFSETFROM:+0200
TZOFFSETTO:+0100
TZNAME:CET
DTSTART:20211031T010000
END:STANDARD
BEGIN:DAYLIGHT
TZOFFSETFROM:+0100
TZOFFSETTO:+0200
TZNAME:CEST
DTSTART:20220327T010000
END:DAYLIGHT
BEGIN:STANDARD
TZOFFSETFROM:+0200
TZOFFSETTO:+0100
TZNAME:CET
DTSTART:20221030T010000
END:STANDARD
BEGIN:DAYLIGHT
TZOFFSETFROM:+0100
TZOFFSETTO:+0200
TZNAME:CEST
DTSTART:20230326T010000
END:DAYLIGHT
BEGIN:STANDARD
TZOFFSETFROM:+0200
TZOFFSETTO:+0100
TZNAME:CET
DTSTART:20231029T010000
END:STANDARD
END:VTIMEZONE
BEGIN:VEVENT
DTSTART;TZID=Europe/Madrid:20220605T173000
DTEND;TZID=Europe/Madrid:20220605T190000
DTSTAMP:20260422T171436
CREATED:20220525T162335Z
LAST-MODIFIED:20220525T162335Z
UID:10003615-1654450200-1654455600@poblenouurbandistrict.com
SUMMARY:[:ca]Teatre: Sortirs abans d'entrar[:es]Teatro: Salir antes de entrar[:en]Theater: Exit before entering[:]
DESCRIPTION:Nadie nos dice cuándo es la última vez que viviremos alguna cosa. Es como un secreto. Y de alguna manera\, eso es lo que hace tan bonitas las últimas veces. Que no sabemos que son las últimas veces hasta que ya han pasado. Hasta que se desvela el secreto. El cambio y la pérdida son los que hacen que vivamos las cosas por última vez.
URL:https://poblenouurbandistrict.com/es/agenda/teatre-sortirs-abans-dentrar/2022-06-05/
LOCATION:Sala Beckett\, C. de Pere IV\, 228\, 232\, Barcelona\, Barcelona\, 08005
CATEGORIES:Teatro
ATTACH;FMTTYPE=image/jpeg:https://media.poblenouurbandistrict.com/2022/05/25052126/screenshot-2022-05-25-at-182210.jpg
END:VEVENT
BEGIN:VEVENT
DTSTART;TZID=Europe/Madrid:20220605T180000
DTEND;TZID=Europe/Madrid:20220605T193000
DTSTAMP:20260422T171436
CREATED:20221129T165546Z
LAST-MODIFIED:20221129T165546Z
UID:10002899-1654452000-1654457400@poblenouurbandistrict.com
SUMMARY:[:ca]Espectacle: L’altre[:es]Espectáculo: L’altre[:]
DESCRIPTION:L’altre es un juego provocativo\, divertido\, ingenioso y lleno de sorpresas que aborda la relación entre tecnología y deshumanización. \nDe miércoles a sábado\, 20h\nDomingo\, 18h
URL:https://poblenouurbandistrict.com/es/agenda/espectacle-laltre/2022-06-05/
LOCATION:Sala Beckett\, C. de Pere IV\, 228\, 232\, Barcelona\, Barcelona\, 08005
CATEGORIES:Teatro
ATTACH;FMTTYPE=image/jpeg:https://media.poblenouurbandistrict.com/2022/03/25045756/screenshot-2022-03-24-at-162729.jpg
END:VEVENT
BEGIN:VEVENT
DTSTART;TZID=Europe/Madrid:20220605T180000
DTEND;TZID=Europe/Madrid:20220605T193000
DTSTAMP:20260422T171436
CREATED:20221129T165548Z
LAST-MODIFIED:20221129T165548Z
UID:10002985-1654452000-1654457400@poblenouurbandistrict.com
SUMMARY:[:ca]Teatre: El pes d’un cos[:es]Teatro: El pes d’un cos[:]
DESCRIPTION:Sinopsis: Una hija tiene que cuidar de su padre\, quien\, tras sufrir un ictus\, vive un proceso de deterioro físico y mental que lo convierte en un ser totalmente dependiente. -La falta de recursos propios y la precariedad que viven las administraciones públicas harán que la situación entre en una especie de espiral de caída libre. \nMiércoles\, jueves\, viernes y sábado a las 19 h\nDomingo a las 18 h
URL:https://poblenouurbandistrict.com/es/agenda/teatre-el-pes-dun-cos/2022-06-05/
LOCATION:Teatre Nacional de Catalunya\, Plaça de les Arts\, 1\, Barcelona\, 08013
CATEGORIES:Teatro
ATTACH;FMTTYPE=image/jpeg:https://media.poblenouurbandistrict.com/2022/03/25045804/screenshot-2022-03-24-at-171122.jpg
END:VEVENT
BEGIN:VEVENT
DTSTART;TZID=Europe/Madrid:20220605T200000
DTEND;TZID=Europe/Madrid:20220605T213000
DTSTAMP:20260422T171436
CREATED:20220530T102409Z
LAST-MODIFIED:20220530T102409Z
UID:10003697-1654459200-1654464600@poblenouurbandistrict.com
SUMMARY:[:ca]Teatre: Power Up Orchestra - Videojocs i Anime en Concert[:es]Teatro: Power Up Orchestra - Videojuegos y Anime en Concierto[:en]Theater: Power Up Orchestra - Videogames and Anime in Concert[:]
DESCRIPTION:Power Up Orchestra vuelve a Barcelona con un concierto sinfónico con un nuevo repertorio repleto de la mejor música del mundo del anime y los videojuegos.
URL:https://poblenouurbandistrict.com/es/agenda/teatre-power-up-orchestra-videojocs-i-anime-en-concert/
LOCATION:Casino l’aliança del Poblenou\, Rambla del Poblenou\, 42\,\, Barcelona\, Barcelona\, 08005\, Espanya
CATEGORIES:Música,Teatro
ATTACH;FMTTYPE=image/jpeg:https://media.poblenouurbandistrict.com/2022/05/25052336/screenshot-2022-05-30-at-122325.jpg
END:VEVENT
END:VCALENDAR