BEGIN:VCALENDAR
VERSION:2.0
PRODID:-//Poblenou Urban District - ECPv6.15.20//NONSGML v1.0//EN
CALSCALE:GREGORIAN
METHOD:PUBLISH
X-WR-CALNAME:Poblenou Urban District
X-ORIGINAL-URL:https://poblenouurbandistrict.com/es
X-WR-CALDESC:Eventos para Poblenou Urban District
REFRESH-INTERVAL;VALUE=DURATION:PT1H
X-Robots-Tag:noindex
X-PUBLISHED-TTL:PT1H
BEGIN:VTIMEZONE
TZID:Europe/Madrid
BEGIN:DAYLIGHT
TZOFFSETFROM:+0100
TZOFFSETTO:+0200
TZNAME:CEST
DTSTART:20210328T010000
END:DAYLIGHT
BEGIN:STANDARD
TZOFFSETFROM:+0200
TZOFFSETTO:+0100
TZNAME:CET
DTSTART:20211031T010000
END:STANDARD
BEGIN:DAYLIGHT
TZOFFSETFROM:+0100
TZOFFSETTO:+0200
TZNAME:CEST
DTSTART:20220327T010000
END:DAYLIGHT
BEGIN:STANDARD
TZOFFSETFROM:+0200
TZOFFSETTO:+0100
TZNAME:CET
DTSTART:20221030T010000
END:STANDARD
BEGIN:DAYLIGHT
TZOFFSETFROM:+0100
TZOFFSETTO:+0200
TZNAME:CEST
DTSTART:20230326T010000
END:DAYLIGHT
BEGIN:STANDARD
TZOFFSETFROM:+0200
TZOFFSETTO:+0100
TZNAME:CET
DTSTART:20231029T010000
END:STANDARD
END:VTIMEZONE
BEGIN:VEVENT
DTSTART;VALUE=DATE:20220609
DTEND;VALUE=DATE:20220610
DTSTAMP:20260422T171221
CREATED:20220608T091749Z
LAST-MODIFIED:20220608T091749Z
UID:10003883-1654732800-1654819199@poblenouurbandistrict.com
SUMMARY:[:ca]6è any de la Beckett al Poblenou[:es]6to año de la Beckett en el Poblenou[:en]6th year of the Beckett at Poblenou[:]
DESCRIPTION:El jueves 9 de junio\, celebramos que ya son seis años desde la llegada de la Sala Beckett a Poblenou\, y\, por eso\, nos ofrece algunas actividades: \n12h: Avance de la temporada 2022/23 y aperitivo con los Personajes de la Beckett. Actividad exclusiva para Personajes de la Beckett. \n16h: Ensayo abierto de Al final\, les visions de Llàtzer Garcia y encuentro con el autor\, residente en la Sala Beckett la temporada 2021/22\, y los intérpretes del espectáculo. Actividad exclusiva para Personajes de la Beckett. \nY además\, si te acercas a la Beckett a lo largo del día\, podrás disfrutar de les siguientes promociones: \n\nCarnet de Personaje de la Beckett: 20€\nCarnet de Personaje de la Beckett + entrada para la primera semana de funciones de Al final\, les visions y Paradís: 30€\nCarnet de Personaje de la Beckett + Colección de libros Biblioteca Sala Beckett: 40€\n\nTambién puedes comprar una camiseta de la Sala Beckett por 10€. \nY si cuelgas una foto tuya en la Sala con el hashtag #6anysalPoblenou en Twitter o Instagram\, te invitamos a una Estrella Damm!
URL:https://poblenouurbandistrict.com/es/agenda/6e-any-de-la-beckett-al-poblenou/
LOCATION:Sala Beckett\, C. de Pere IV\, 228\, 232\, Barcelona\, Barcelona\, 08005
CATEGORIES:Música,Teatro,Charla
ATTACH;FMTTYPE=image/jpeg:https://media.poblenouurbandistrict.com/2022/06/25052722/screenshot-2022-06-08-at-111719.jpg
END:VEVENT
BEGIN:VEVENT
DTSTART;TZID=Europe/Madrid:20220609T190000
DTEND;TZID=Europe/Madrid:20220609T203000
DTSTAMP:20260422T171221
CREATED:20220324T161208Z
LAST-MODIFIED:20220404T104104Z
UID:10002979-1654801200-1654806600@poblenouurbandistrict.com
SUMMARY:[:ca]Teatre: El pes d’un cos[:es]Teatro: El pes d’un cos[:]
DESCRIPTION:Sinopsis: Una hija tiene que cuidar de su padre\, quien\, tras sufrir un ictus\, vive un proceso de deterioro físico y mental que lo convierte en un ser totalmente dependiente. -La falta de recursos propios y la precariedad que viven las administraciones públicas harán que la situación entre en una especie de espiral de caída libre. \nMiércoles\, jueves\, viernes y sábado a las 19 h\nDomingo a las 18 h
URL:https://poblenouurbandistrict.com/es/agenda/teatre-el-pes-dun-cos/2022-06-09/
LOCATION:Teatre Nacional de Catalunya\, Plaça de les Arts\, 1\, Barcelona\, 08013
CATEGORIES:Teatro
ATTACH;FMTTYPE=image/jpeg:https://media.poblenouurbandistrict.com/2022/03/25045804/screenshot-2022-03-24-at-171122.jpg
END:VEVENT
END:VCALENDAR