BEGIN:VCALENDAR
VERSION:2.0
PRODID:-//Poblenou Urban District - ECPv6.15.20//NONSGML v1.0//EN
CALSCALE:GREGORIAN
METHOD:PUBLISH
X-WR-CALNAME:Poblenou Urban District
X-ORIGINAL-URL:https://poblenouurbandistrict.com/es
X-WR-CALDESC:Eventos para Poblenou Urban District
REFRESH-INTERVAL;VALUE=DURATION:PT1H
X-Robots-Tag:noindex
X-PUBLISHED-TTL:PT1H
BEGIN:VTIMEZONE
TZID:Europe/Madrid
BEGIN:DAYLIGHT
TZOFFSETFROM:+0100
TZOFFSETTO:+0200
TZNAME:CEST
DTSTART:20210328T010000
END:DAYLIGHT
BEGIN:STANDARD
TZOFFSETFROM:+0200
TZOFFSETTO:+0100
TZNAME:CET
DTSTART:20211031T010000
END:STANDARD
BEGIN:DAYLIGHT
TZOFFSETFROM:+0100
TZOFFSETTO:+0200
TZNAME:CEST
DTSTART:20220327T010000
END:DAYLIGHT
BEGIN:STANDARD
TZOFFSETFROM:+0200
TZOFFSETTO:+0100
TZNAME:CET
DTSTART:20221030T010000
END:STANDARD
BEGIN:DAYLIGHT
TZOFFSETFROM:+0100
TZOFFSETTO:+0200
TZNAME:CEST
DTSTART:20230326T010000
END:DAYLIGHT
BEGIN:STANDARD
TZOFFSETFROM:+0200
TZOFFSETTO:+0100
TZNAME:CET
DTSTART:20231029T010000
END:STANDARD
END:VTIMEZONE
BEGIN:VEVENT
DTSTART;VALUE=DATE:20220615
DTEND;VALUE=DATE:20220616
DTSTAMP:20260422T171221
CREATED:20220324T162733Z
LAST-MODIFIED:20220602T131932Z
UID:10002990-1655251200-1655337599@poblenouurbandistrict.com
SUMMARY:[:ca]Teatre: ZIP[:es]Teatre: ZIP[:]
DESCRIPTION:Durante cinco días\, el TNC se convertirá en un punto de encuentro en sí mismo\, con funciones\, charlas y exposiciones al largo del día que harán visibles muchas compañías y creadores emergentes.
URL:https://poblenouurbandistrict.com/es/agenda/teatre-zip/2022-06-15/
LOCATION:Teatre Nacional de Catalunya\, Plaça de les Arts\, 1\, Barcelona\, 08013
CATEGORIES:Exposición,Teatro,Charla
ATTACH;FMTTYPE=image/gif:https://media.poblenouurbandistrict.com/2022/03/25052543/tnc-zip-banner-1080x1080px.gif
END:VEVENT
BEGIN:VEVENT
DTSTART;TZID=Europe/Madrid:20220615T110000
DTEND;TZID=Europe/Madrid:20220615T140000
DTSTAMP:20260422T171221
CREATED:20220405T132102Z
LAST-MODIFIED:20220405T132102Z
UID:10003131-1655290800-1655301600@poblenouurbandistrict.com
SUMMARY:[:ca]Curs: El monòleg (jo també soc els altres)[:es]Curso: El monólogo (yo también soy los otros)[:en]Course: The monologue (I am also the others)[:]
DESCRIPTION:En este curso\, la Sala Beckett os propone explorar la voz propia de cada participante para crear las voces de personajes. El objetivo es escribir un monólogo dramático (en tono de comedia o tragedia) e iniciaros en la dramaturgia literaria. \nMiércoles de 11 a 14 h.
URL:https://poblenouurbandistrict.com/es/agenda/curs-el-monoleg-jo-tambe-soc-els-altres/2022-06-15/
LOCATION:Sala Beckett\, C. de Pere IV\, 228\, 232\, Barcelona\, Barcelona\, 08005
CATEGORIES:Curso,Teatro
ATTACH;FMTTYPE=image/jpeg:https://media.poblenouurbandistrict.com/2022/04/25050205/el-monoleg.jpg
END:VEVENT
END:VCALENDAR