BEGIN:VCALENDAR
VERSION:2.0
PRODID:-//Poblenou Urban District - ECPv6.15.20//NONSGML v1.0//EN
CALSCALE:GREGORIAN
METHOD:PUBLISH
X-ORIGINAL-URL:https://poblenouurbandistrict.com/es
X-WR-CALDESC:Eventos para Poblenou Urban District
REFRESH-INTERVAL;VALUE=DURATION:PT1H
X-Robots-Tag:noindex
X-PUBLISHED-TTL:PT1H
BEGIN:VTIMEZONE
TZID:Europe/Madrid
BEGIN:DAYLIGHT
TZOFFSETFROM:+0100
TZOFFSETTO:+0200
TZNAME:CEST
DTSTART:20210328T010000
END:DAYLIGHT
BEGIN:STANDARD
TZOFFSETFROM:+0200
TZOFFSETTO:+0100
TZNAME:CET
DTSTART:20211031T010000
END:STANDARD
BEGIN:DAYLIGHT
TZOFFSETFROM:+0100
TZOFFSETTO:+0200
TZNAME:CEST
DTSTART:20220327T010000
END:DAYLIGHT
BEGIN:STANDARD
TZOFFSETFROM:+0200
TZOFFSETTO:+0100
TZNAME:CET
DTSTART:20221030T010000
END:STANDARD
BEGIN:DAYLIGHT
TZOFFSETFROM:+0100
TZOFFSETTO:+0200
TZNAME:CEST
DTSTART:20230326T010000
END:DAYLIGHT
BEGIN:STANDARD
TZOFFSETFROM:+0200
TZOFFSETTO:+0100
TZNAME:CET
DTSTART:20231029T010000
END:STANDARD
END:VTIMEZONE
BEGIN:VEVENT
DTSTART;TZID=Europe/Madrid:20220621T200000
DTEND;TZID=Europe/Madrid:20220621T213000
DTSTAMP:20260422T171359
CREATED:20220525T163751Z
LAST-MODIFIED:20220525T163751Z
UID:10003624-1655841600-1655847000@poblenouurbandistrict.com
SUMMARY:[:ca]Teatre: Estiu ardent (1947)[:es]Teatro: Verano ardiente (1947)[:en]Theater: Burning Summer (1947)[:]
DESCRIPTION:El año 1947\, en la Barcelona gris y oscura de postguerra\, Elena\, viuda\, es amante de Eduard\, un hombre casado\, más grande que ella. Convive con su muchacha Caterina\, mujer sencilla\, y su hija Eva\, una joven bonita enamorada de un chico\, Pere\, poco más grande que ella\, que flirtea secretamente con los movimientos políticos contrarios al régimen. Juntas sobreviven en una ciudad gobernada por el miedo y por la miseria.
URL:https://poblenouurbandistrict.com/es/agenda/teatre-estiu-ardent-1947/2022-06-21/
LOCATION:Sala Beckett\, C. de Pere IV\, 228\, 232\, Barcelona\, Barcelona\, 08005
CATEGORIES:Teatro
ATTACH;FMTTYPE=image/jpeg:https://media.poblenouurbandistrict.com/2022/05/25052130/screenshot-2022-05-25-at-183703.jpg
END:VEVENT
BEGIN:VEVENT
DTSTART;TZID=Europe/Madrid:20220621T200000
DTEND;TZID=Europe/Madrid:20220621T213000
DTSTAMP:20260422T171359
CREATED:20220530T102813Z
LAST-MODIFIED:20220530T102813Z
UID:10003698-1655841600-1655847000@poblenouurbandistrict.com
SUMMARY:[:ca]Teatre: Encore Theatrical Arts Project[:es]Teatro: Encore Theatrical Arts Project[:en]Theater: Encore Theatrical Arts Project[:]
DESCRIPTION:Encore Theatrical Arts Project (ETAP) es una reconocida compañía de artes escénicas con sede en Washington D.C. que ahora nos presenta «Le Jazz Hot».
URL:https://poblenouurbandistrict.com/es/agenda/teatre-encore-theatrical-arts-project/
LOCATION:Casino l’aliança del Poblenou\, Rambla del Poblenou\, 42\,\, Barcelona\, Barcelona\, 08005\, Espanya
CATEGORIES:Música,Teatro
ATTACH;FMTTYPE=image/jpeg:https://media.poblenouurbandistrict.com/2022/05/25052337/screenshot-2022-05-30-at-122737.jpg
END:VEVENT
END:VCALENDAR