BEGIN:VCALENDAR
VERSION:2.0
PRODID:-//Poblenou Urban District - ECPv6.15.20//NONSGML v1.0//EN
CALSCALE:GREGORIAN
METHOD:PUBLISH
X-WR-CALNAME:Poblenou Urban District
X-ORIGINAL-URL:https://poblenouurbandistrict.com/es
X-WR-CALDESC:Eventos para Poblenou Urban District
REFRESH-INTERVAL;VALUE=DURATION:PT1H
X-Robots-Tag:noindex
X-PUBLISHED-TTL:PT1H
BEGIN:VTIMEZONE
TZID:Europe/Madrid
BEGIN:DAYLIGHT
TZOFFSETFROM:+0100
TZOFFSETTO:+0200
TZNAME:CEST
DTSTART:20210328T010000
END:DAYLIGHT
BEGIN:STANDARD
TZOFFSETFROM:+0200
TZOFFSETTO:+0100
TZNAME:CET
DTSTART:20211031T010000
END:STANDARD
BEGIN:DAYLIGHT
TZOFFSETFROM:+0100
TZOFFSETTO:+0200
TZNAME:CEST
DTSTART:20220327T010000
END:DAYLIGHT
BEGIN:STANDARD
TZOFFSETFROM:+0200
TZOFFSETTO:+0100
TZNAME:CET
DTSTART:20221030T010000
END:STANDARD
BEGIN:DAYLIGHT
TZOFFSETFROM:+0100
TZOFFSETTO:+0200
TZNAME:CEST
DTSTART:20230326T010000
END:DAYLIGHT
BEGIN:STANDARD
TZOFFSETFROM:+0200
TZOFFSETTO:+0100
TZNAME:CET
DTSTART:20231029T010000
END:STANDARD
END:VTIMEZONE
BEGIN:VEVENT
DTSTART;TZID=Europe/Madrid:20220629T203000
DTEND;TZID=Europe/Madrid:20220731T220000
DTSTAMP:20260422T160221
CREATED:20220523T155903Z
LAST-MODIFIED:20220627T102028Z
UID:10003607-1656534600-1659304800@poblenouurbandistrict.com
SUMMARY:[:ca]Teatre: Al final\, les visions[:es]Teatro: Al final\, las visiones[:en]Theater: In the end\, the visions[:]
DESCRIPTION:Culpas impuestas\, redenciones que se hacen esperar muchos años\, sueños\, retornos\, visiones y finales forman parte de una historia intensa que nos habla de ese territorio en el que conviven los vivos y los muertos\, los que ya han marchado y los que\, quizás a pesar de sede\, todavía están. \nDe miércoles a sábado\, 20:30h\nDomingo\, 18:30h
URL:https://poblenouurbandistrict.com/es/agenda/teatre-al-final-les-visions/
LOCATION:Sala Beckett\, C. de Pere IV\, 228\, 232\, Barcelona\, Barcelona\, 08005
CATEGORIES:Teatro
ATTACH;FMTTYPE=image/jpeg:https://media.poblenouurbandistrict.com/2022/05/25051946/screenshot-2022-05-23-at-175827.jpg
END:VEVENT
BEGIN:VEVENT
DTSTART;TZID=Europe/Madrid:20220718T160000
DTEND;TZID=Europe/Madrid:20220720T190000
DTSTAMP:20260422T160221
CREATED:20220531T141124Z
LAST-MODIFIED:20220704T111722Z
UID:10003717-1658160000-1658343600@poblenouurbandistrict.com
SUMMARY:[:ca]Curs: Teatre i ecologia | XVII Obrador d’estiu[:es]Curso: Teatro y ecología | XVII Obrador d’estiu[:en]Course: Theater and ecology | XVII Obrador d’estiu[:]
DESCRIPTION:En este taller\, Katie Mitchell explorará con los participantes la relación entre ecología y teatro. Incluirá un breve repaso de los montajes de Mitchell sobre el tema y ejercicios con el objetivo de desarrollar conceptos ecológicos para llevar obras a escena.
URL:https://poblenouurbandistrict.com/es/agenda/curs-teatre-i-ecologia/
LOCATION:Sala Beckett\, C. de Pere IV\, 228\, 232\, Barcelona\, Barcelona\, 08005
CATEGORIES:Curso,Teatro
ATTACH;FMTTYPE=image/jpeg:https://media.poblenouurbandistrict.com/2022/05/25052519/screenshot-2022-05-31-at-161050.jpg
END:VEVENT
BEGIN:VEVENT
DTSTART;TZID=Europe/Madrid:20220719T193000
DTEND;TZID=Europe/Madrid:20220722T203000
DTSTAMP:20260422T160221
CREATED:20220525T164554Z
LAST-MODIFIED:20220627T114917Z
UID:10003631-1658259000-1658521800@poblenouurbandistrict.com
SUMMARY:[:ca]Teatre: Paradís[:es]Teatro: Paraíso[:en]Theater: Paradise[:]
DESCRIPTION:Paraíso es una historia contada por un solo actor que desarrollará los cuatro personajes que van relatando la historia divertida y emotiva desde cuatro puntos de vista diferentes. El autor y el actor que se fusionan en una sola voz. \nDel 5 al 22 de julio \nDe martes a viernes\, 19:30h
URL:https://poblenouurbandistrict.com/es/agenda/teatre-paradis/2022-07-19/
LOCATION:Sala Beckett\, C. de Pere IV\, 228\, 232\, Barcelona\, Barcelona\, 08005
CATEGORIES:Teatro
ATTACH;FMTTYPE=image/jpeg:https://media.poblenouurbandistrict.com/2022/05/25052133/screenshot-2022-05-25-at-184530.jpg
END:VEVENT
END:VCALENDAR