BEGIN:VCALENDAR
VERSION:2.0
PRODID:-//Poblenou Urban District - ECPv6.15.20//NONSGML v1.0//EN
CALSCALE:GREGORIAN
METHOD:PUBLISH
X-ORIGINAL-URL:https://poblenouurbandistrict.com/es
X-WR-CALDESC:Eventos para Poblenou Urban District
REFRESH-INTERVAL;VALUE=DURATION:PT1H
X-Robots-Tag:noindex
X-PUBLISHED-TTL:PT1H
BEGIN:VTIMEZONE
TZID:Europe/Madrid
BEGIN:DAYLIGHT
TZOFFSETFROM:+0100
TZOFFSETTO:+0200
TZNAME:CEST
DTSTART:20210328T010000
END:DAYLIGHT
BEGIN:STANDARD
TZOFFSETFROM:+0200
TZOFFSETTO:+0100
TZNAME:CET
DTSTART:20211031T010000
END:STANDARD
BEGIN:DAYLIGHT
TZOFFSETFROM:+0100
TZOFFSETTO:+0200
TZNAME:CEST
DTSTART:20220327T010000
END:DAYLIGHT
BEGIN:STANDARD
TZOFFSETFROM:+0200
TZOFFSETTO:+0100
TZNAME:CET
DTSTART:20221030T010000
END:STANDARD
BEGIN:DAYLIGHT
TZOFFSETFROM:+0100
TZOFFSETTO:+0200
TZNAME:CEST
DTSTART:20230326T010000
END:DAYLIGHT
BEGIN:STANDARD
TZOFFSETFROM:+0200
TZOFFSETTO:+0100
TZNAME:CET
DTSTART:20231029T010000
END:STANDARD
END:VTIMEZONE
BEGIN:VEVENT
DTSTART;TZID=Europe/Madrid:20220915T200000
DTEND;TZID=Europe/Madrid:20220918T203000
DTSTAMP:20260422T115639
CREATED:20220905T142415Z
LAST-MODIFIED:20220905T142415Z
UID:10003961-1663272000-1663533000@poblenouurbandistrict.com
SUMMARY:[:ca]Teatre: Absències[:es]Teatro: Absències[:en]Theater: Absències[:]
DESCRIPTION:Absències son Padre y Camí de silenci\, dos piezas de danza que se pueden ver seguidas\, donde el hilo conductor es el paso del tiempo\, la pérdida de un ser querido\, la figura del padre y el deseo de vivir. \nPadre\, la primera pieza\, tiene mucho que ver con la muerte prematura del padre del coreógrafo\, dejando un vacío generacional imposible de llenar. La pieza parte de una investigación de materiales textuales y coreográficos que tienen como referente el padre\, pero también la figura del hijo y la del abuelo; en definitiva\, en busca de la trascendencia de los roles generacionales\, sean construidos a partir de ausencias o presencias. Camí de silenci\, la segunda pieza\, fue creada en 1995\, unos años después de la muerte de su padre y se presenta tal como era originalmente.
URL:https://poblenouurbandistrict.com/es/agenda/teatre-absencies/
LOCATION:Sala Beckett\, C. de Pere IV\, 228\, 232\, Barcelona\, Barcelona\, 08005
CATEGORIES:Teatro
ATTACH;FMTTYPE=image/jpeg:https://media.poblenouurbandistrict.com/2022/09/25054002/294946207-1114018779491589-2278431055477693025-n.jpg
END:VEVENT
END:VCALENDAR