BEGIN:VCALENDAR
VERSION:2.0
PRODID:-//Poblenou Urban District - ECPv6.15.20//NONSGML v1.0//EN
CALSCALE:GREGORIAN
METHOD:PUBLISH
X-ORIGINAL-URL:https://poblenouurbandistrict.com/es
X-WR-CALDESC:Eventos para Poblenou Urban District
REFRESH-INTERVAL;VALUE=DURATION:PT1H
X-Robots-Tag:noindex
X-PUBLISHED-TTL:PT1H
BEGIN:VTIMEZONE
TZID:Europe/Madrid
BEGIN:DAYLIGHT
TZOFFSETFROM:+0100
TZOFFSETTO:+0200
TZNAME:CEST
DTSTART:20210328T010000
END:DAYLIGHT
BEGIN:STANDARD
TZOFFSETFROM:+0200
TZOFFSETTO:+0100
TZNAME:CET
DTSTART:20211031T010000
END:STANDARD
BEGIN:DAYLIGHT
TZOFFSETFROM:+0100
TZOFFSETTO:+0200
TZNAME:CEST
DTSTART:20220327T010000
END:DAYLIGHT
BEGIN:STANDARD
TZOFFSETFROM:+0200
TZOFFSETTO:+0100
TZNAME:CET
DTSTART:20221030T010000
END:STANDARD
BEGIN:DAYLIGHT
TZOFFSETFROM:+0100
TZOFFSETTO:+0200
TZNAME:CEST
DTSTART:20230326T010000
END:DAYLIGHT
BEGIN:STANDARD
TZOFFSETFROM:+0200
TZOFFSETTO:+0100
TZNAME:CET
DTSTART:20231029T010000
END:STANDARD
END:VTIMEZONE
BEGIN:VEVENT
DTSTART;TZID=Europe/Madrid:20220921T080000
DTEND;TZID=Europe/Madrid:20220925T170000
DTSTAMP:20260422T115627
CREATED:20220905T152750Z
LAST-MODIFIED:20220912T140511Z
UID:10003953-1663747200-1664125200@poblenouurbandistrict.com
SUMMARY:[:ca]Teatre: MDR[:es]Teatro: MDR[:en]Theater: MDR[:]
DESCRIPTION:Mejor Espectáculo de circo de los Premis de la Crítica 2021 \nMelon\, Mardi y Rossinyol se enfrentan a un callejón sin salida inesperado. Su naturaleza indómita y torpe y la necesidad de existir los abocan a una obra improbable\, en la que exploran libremente cualquier barbaridad. Esta experiencia hilarante y aterradora rezuma una historia de amistad sincera y áspera\, provocada por un sentimiento de responsabilidad y de culpa. Un crimen improbable\, un juicio dudoso y un castigo absurdo. Paradójicamente\, quizás llegarán a provocar el deseo de morir de risa.
URL:https://poblenouurbandistrict.com/es/agenda/teatre-mdr/2022-09-21/
LOCATION:Teatre Nacional de Catalunya\, Plaça de les Arts\, 1\, Barcelona\, 08013
CATEGORIES:Teatro
ATTACH;FMTTYPE=image/jpeg:https://media.poblenouurbandistrict.com/2022/09/25054007/foto-5-de-lespectacle-mdr-scaled.jpg
END:VEVENT
END:VCALENDAR