BEGIN:VCALENDAR
VERSION:2.0
PRODID:-//Poblenou Urban District - ECPv6.15.20//NONSGML v1.0//EN
CALSCALE:GREGORIAN
METHOD:PUBLISH
X-WR-CALNAME:Poblenou Urban District
X-ORIGINAL-URL:https://poblenouurbandistrict.com/es
X-WR-CALDESC:Eventos para Poblenou Urban District
REFRESH-INTERVAL;VALUE=DURATION:PT1H
X-Robots-Tag:noindex
X-PUBLISHED-TTL:PT1H
BEGIN:VTIMEZONE
TZID:Europe/Madrid
BEGIN:DAYLIGHT
TZOFFSETFROM:+0100
TZOFFSETTO:+0200
TZNAME:CEST
DTSTART:20210328T010000
END:DAYLIGHT
BEGIN:STANDARD
TZOFFSETFROM:+0200
TZOFFSETTO:+0100
TZNAME:CET
DTSTART:20211031T010000
END:STANDARD
BEGIN:DAYLIGHT
TZOFFSETFROM:+0100
TZOFFSETTO:+0200
TZNAME:CEST
DTSTART:20220327T010000
END:DAYLIGHT
BEGIN:STANDARD
TZOFFSETFROM:+0200
TZOFFSETTO:+0100
TZNAME:CET
DTSTART:20221030T010000
END:STANDARD
BEGIN:DAYLIGHT
TZOFFSETFROM:+0100
TZOFFSETTO:+0200
TZNAME:CEST
DTSTART:20230326T010000
END:DAYLIGHT
BEGIN:STANDARD
TZOFFSETFROM:+0200
TZOFFSETTO:+0100
TZNAME:CET
DTSTART:20231029T010000
END:STANDARD
END:VTIMEZONE
BEGIN:VEVENT
DTSTART;TZID=Europe/Madrid:20221215T190000
DTEND;TZID=Europe/Madrid:20221215T203000
DTSTAMP:20260422T055101
CREATED:20221123T092029Z
LAST-MODIFIED:20221123T092741Z
UID:10004046-1671130800-1671136200@poblenouurbandistrict.com
SUMMARY:TALKING HEADS
DESCRIPTION:Tres mujeres hablan sin parar con un inconfundible humor británico \nAlan Bennett escribió estos monólogos para la BBC entre 1988 y 1998. Evocadores de su infancia vivida fuera de la gran ciudad entre los años 40 y 50 en Inglaterra\, Bennett explica que muy pronto aprendió una valiosa lección: la vida es lo que ocurre en algún otro lugar. \nBennett retrata con humor una serie de personajes insignificantes\, unas existencias sin futuro que\, para no entregarse al vértigo del vacío y crear la ilusión de la vida\, hablan sin parar.
URL:https://poblenouurbandistrict.com/es/agenda/talking-heads/2022-12-15/
LOCATION:Teatre Nacional de Catalunya\, Plaça de les Arts\, 1\, Barcelona\, 08013
CATEGORIES:Teatro
ATTACH;FMTTYPE=image/jpeg:https://media.poblenouurbandistrict.com/2022/11/25055057/diseno-sin-titulo-12.jpg
END:VEVENT
BEGIN:VEVENT
DTSTART;TZID=Europe/Madrid:20221215T193000
DTEND;TZID=Europe/Madrid:20221215T210000
DTSTAMP:20260422T055101
CREATED:20221123T095327Z
LAST-MODIFIED:20221123T095327Z
UID:10004130-1671132600-1671138000@poblenouurbandistrict.com
SUMMARY:La gran farsa (Els jutges no porten botons vermells a la toga)
DESCRIPTION:Sinopsis\n\nEn una institución que habrá que descubrir de un estado imaginario\, ni cerca ni muy lejos de nuestras tierras\, los forzados residentes preparan como actividad ocupacional una representación de teatro que\, inevitablemente\, hablará de ellos y de su país: una monarquía más o menos corrupta\, de apariencia liberal que\, además de los poderes económicos\, militares y religiosos\, como toda su vida\, sabrá encontrar en el poder judicial la última justificación de sus decisiones interesadas y arbitrarias. Con esta farsa en tres actos\, entre el Ubu de Jarry\, el humor absurdo de Ionesco\, los hermanos Marx y Monty Python\, se presenta como autor dramático al periodista y crítico de teatro Santi Fondevila. Una ópera prima con un reparto y una dirección de lujo.
URL:https://poblenouurbandistrict.com/es/agenda/la-gran-farsa-els-jutges-no-porten-botons-vermells-a-la-toga/2022-12-15/
LOCATION:Sala Beckett\, C. de Pere IV\, 228\, 232\, Barcelona\, Barcelona\, 08005
CATEGORIES:Teatro
ATTACH;FMTTYPE=image/jpeg:https://media.poblenouurbandistrict.com/2022/11/25055136/diseno-sin-titulo-15.jpg
END:VEVENT
END:VCALENDAR