BEGIN:VCALENDAR
VERSION:2.0
PRODID:-//Poblenou Urban District - ECPv6.15.20//NONSGML v1.0//EN
CALSCALE:GREGORIAN
METHOD:PUBLISH
X-WR-CALNAME:Poblenou Urban District
X-ORIGINAL-URL:https://poblenouurbandistrict.com/es
X-WR-CALDESC:Eventos para Poblenou Urban District
REFRESH-INTERVAL;VALUE=DURATION:PT1H
X-Robots-Tag:noindex
X-PUBLISHED-TTL:PT1H
BEGIN:VTIMEZONE
TZID:Europe/Madrid
BEGIN:DAYLIGHT
TZOFFSETFROM:+0100
TZOFFSETTO:+0200
TZNAME:CEST
DTSTART:20210328T010000
END:DAYLIGHT
BEGIN:STANDARD
TZOFFSETFROM:+0200
TZOFFSETTO:+0100
TZNAME:CET
DTSTART:20211031T010000
END:STANDARD
BEGIN:DAYLIGHT
TZOFFSETFROM:+0100
TZOFFSETTO:+0200
TZNAME:CEST
DTSTART:20220327T010000
END:DAYLIGHT
BEGIN:STANDARD
TZOFFSETFROM:+0200
TZOFFSETTO:+0100
TZNAME:CET
DTSTART:20221030T010000
END:STANDARD
BEGIN:DAYLIGHT
TZOFFSETFROM:+0100
TZOFFSETTO:+0200
TZNAME:CEST
DTSTART:20230326T010000
END:DAYLIGHT
BEGIN:STANDARD
TZOFFSETFROM:+0200
TZOFFSETTO:+0100
TZNAME:CET
DTSTART:20231029T010000
END:STANDARD
END:VTIMEZONE
BEGIN:VEVENT
DTSTART;TZID=Europe/Madrid:20221230T193000
DTEND;TZID=Europe/Madrid:20221230T210000
DTSTAMP:20260422T031218
CREATED:20221123T095327Z
LAST-MODIFIED:20221123T095327Z
UID:10004139-1672428600-1672434000@poblenouurbandistrict.com
SUMMARY:La gran farsa (Els jutges no porten botons vermells a la toga)
DESCRIPTION:Sinopsis\n\nEn una institución que habrá que descubrir de un estado imaginario\, ni cerca ni muy lejos de nuestras tierras\, los forzados residentes preparan como actividad ocupacional una representación de teatro que\, inevitablemente\, hablará de ellos y de su país: una monarquía más o menos corrupta\, de apariencia liberal que\, además de los poderes económicos\, militares y religiosos\, como toda su vida\, sabrá encontrar en el poder judicial la última justificación de sus decisiones interesadas y arbitrarias. Con esta farsa en tres actos\, entre el Ubu de Jarry\, el humor absurdo de Ionesco\, los hermanos Marx y Monty Python\, se presenta como autor dramático al periodista y crítico de teatro Santi Fondevila. Una ópera prima con un reparto y una dirección de lujo.
URL:https://poblenouurbandistrict.com/es/agenda/la-gran-farsa-els-jutges-no-porten-botons-vermells-a-la-toga/2022-12-30/
LOCATION:Sala Beckett\, C. de Pere IV\, 228\, 232\, Barcelona\, Barcelona\, 08005
CATEGORIES:Teatro
ATTACH;FMTTYPE=image/jpeg:https://media.poblenouurbandistrict.com/2022/11/25055136/diseno-sin-titulo-15.jpg
END:VEVENT
BEGIN:VEVENT
DTSTART;TZID=Europe/Madrid:20221230T200000
DTEND;TZID=Europe/Madrid:20221230T213000
DTSTAMP:20260422T031218
CREATED:20221123T100333Z
LAST-MODIFIED:20221123T100333Z
UID:10004060-1672430400-1672435800@poblenouurbandistrict.com
SUMMARY:Travy
DESCRIPTION:Sinopsis\nTravy es un homenaje a la misma familia Pla-Solina (de nombre artístico “la Família Travy”) y un (des)encuentro entre dos corrientes teatrales; por un lado\, el clown\, el teatro folklórico y popular. Por el otro\, las formas post-dramáticas y meta-teatrales. Expone dos generaciones y dos momentos vitales; los que ya ven el final del camino sin miedo y los que ven el principio del mismo con pánico. \nUna familia que ha tenido el teatro como forma de ser y vivir. Un juego entre la vida y el teatro; la mentira y la verdad. \nDos payasos viejos con poca gracia. Dos hijos perdidos en sí mismos\, la transgresión del arte y el éxito. Una familia de juglares que se entienden más poniéndose máscaras que mirándose a los ojos. Enzarzados en crear un espectáculo. ¿El último espectáculo? \nEste espectáculo forma parte del ciclo La família (o la família?)\, una propuesta para reflexionar sobre el concepto de familia desde diferentes perspectivas: los imaginarios\, las relaciones\, las vulnerabilidades\, las estructuras sociales\, el mundo laboral\, los sentidos\, las emociones…
URL:https://poblenouurbandistrict.com/es/agenda/travy/2022-12-30/
LOCATION:Sala Beckett\, C. de Pere IV\, 228\, 232\, Barcelona\, Barcelona\, 08005
CATEGORIES:Teatro
ATTACH;FMTTYPE=image/jpeg:https://media.poblenouurbandistrict.com/2022/11/25055137/diseno-sin-titulo-16.jpg
END:VEVENT
END:VCALENDAR