BEGIN:VCALENDAR
VERSION:2.0
PRODID:-//Poblenou Urban District - ECPv6.15.20//NONSGML v1.0//EN
CALSCALE:GREGORIAN
METHOD:PUBLISH
X-ORIGINAL-URL:https://poblenouurbandistrict.com/es
X-WR-CALDESC:Eventos para Poblenou Urban District
REFRESH-INTERVAL;VALUE=DURATION:PT1H
X-Robots-Tag:noindex
X-PUBLISHED-TTL:PT1H
BEGIN:VTIMEZONE
TZID:Europe/Madrid
BEGIN:DAYLIGHT
TZOFFSETFROM:+0100
TZOFFSETTO:+0200
TZNAME:CEST
DTSTART:20220327T010000
END:DAYLIGHT
BEGIN:STANDARD
TZOFFSETFROM:+0200
TZOFFSETTO:+0100
TZNAME:CET
DTSTART:20221030T010000
END:STANDARD
BEGIN:DAYLIGHT
TZOFFSETFROM:+0100
TZOFFSETTO:+0200
TZNAME:CEST
DTSTART:20230326T010000
END:DAYLIGHT
BEGIN:STANDARD
TZOFFSETFROM:+0200
TZOFFSETTO:+0100
TZNAME:CET
DTSTART:20231029T010000
END:STANDARD
BEGIN:DAYLIGHT
TZOFFSETFROM:+0100
TZOFFSETTO:+0200
TZNAME:CEST
DTSTART:20240331T010000
END:DAYLIGHT
BEGIN:STANDARD
TZOFFSETFROM:+0200
TZOFFSETTO:+0100
TZNAME:CET
DTSTART:20241027T010000
END:STANDARD
END:VTIMEZONE
BEGIN:VEVENT
DTSTART;TZID=Europe/Madrid:20230305T180000
DTEND;TZID=Europe/Madrid:20230305T193000
DTSTAMP:20260421T231112
CREATED:20230303T131304Z
LAST-MODIFIED:20230303T131304Z
UID:10004381-1678039200-1678044600@poblenouurbandistrict.com
SUMMARY:[:ca]Desdèmona: Alba Sarraute & Les Ofèlies[:es]Desdémona: Alba Sarraute & Les Ofèlies[:]
DESCRIPTION:Desdémona es una adaptación que han hecho Alba Sarraute & Les Ofèlias de la famosa obra Otelo de \nShakespeare. A través del circo\, la música\, las acrobacias y el baile logran transmitir el \nsignificado profundo de la obra desde la perspectiva de Desdémona. En la función se podrán ver \nlas referencias de textos de la obra original pero con un giro más moderno.
URL:https://poblenouurbandistrict.com/es/agenda/desdemona-alba-sarraute-les-ofelies/2023-03-05/
LOCATION:Teatre Nacional de Catalunya\, Plaça de les Arts\, 1\, Barcelona\, 08013
CATEGORIES:Danza,Música,Teatro
END:VEVENT
END:VCALENDAR